Workbook
Name _MOD1: '[1]BASE DE DATOS'!$A$310:$A$313
Name _MOD1: '[1]BASE DE DATOS'!$A$310:$A$313
Name _MOD1: '[1]BASE DE DATOS'!$A$310:$A$313
Name _no1: '[1]BASE DE DATOS'!$A$2:$A$302
Name _no1: '[1]BASE DE DATOS'!$A$2:$A$302
Name _no1: '[1]BASE DE DATOS'!$A$2:$A$302
Name _ru1: '[1]BASE DE DATOS'!$C$330:$C$340
Name _ru1: '[1]BASE DE DATOS'!$C$330:$C$340
Name _ru1: '[1]BASE DE DATOS'!$C$330:$C$340
Name ACTIVIDADES: #REF!
Name ACTIVIDADES: #REF!
Name ACTIVIDADES: #REF!
Name AMP: '[2]Presupuesto B,E,A 2016'!$AF$3:$AI$7
Name AMP: '[2]Presupuesto B,E,A 2016'!$AF$3:$AI$7
Name AMP: '[2]Presupuesto B,E,A 2016'!$AF$3:$AI$7
Name COMPARATIVA: #REF!
Name COMPARATIVA: #REF!
Name COMPARATIVA: #REF!
Name COMPARATIVA: #REF!
Name COMPARATIVA: #REF!
Name COMPONENTES: #REF!
Name COMPONENTES: #REF!
Name COMPONENTES: #REF!
Name CONT: '[3]BASE DE DATOS'!$C$338:$C$438
Name CONT: '[3]BASE DE DATOS'!$C$338:$C$438
Name CONT: '[3]BASE DE DATOS'!$C$338:$C$438
Name CONTRATISTA2: '[3]BASE DE DATOS'!$A$2:$A$298
Name CONTRATISTA2: '[3]BASE DE DATOS'!$A$2:$A$298
Name CONTRATISTA2: '[3]BASE DE DATOS'!$A$2:$A$298
Name DED: '[1]BASE DE DATOS'!$C$317:$C$323
Name DED: '[1]BASE DE DATOS'!$C$317:$C$323
Name DED: '[1]BASE DE DATOS'!$C$317:$C$323
Name dedu: '[1]BASE DE DATOS'!$C$317:$C$323
Name dedu: '[1]BASE DE DATOS'!$C$317:$C$323
Name dedu: '[1]BASE DE DATOS'!$C$317:$C$323
Name DEDUC: '[4]BASE DE DATOS'!$C$242:$C$247
Name DEDUC: '[4]BASE DE DATOS'!$C$242:$C$247
Name DEDUC: '[4]BASE DE DATOS'!$C$242:$C$247
Name DEDUCCIONES: '[3]BASE DE DATOS'!$C$299:$C$305
Name DEDUCCIONES: '[3]BASE DE DATOS'!$C$299:$C$305
Name DEDUCCIONES: '[3]BASE DE DATOS'!$C$299:$C$305
Name E1070D860: #REF!
Name E1070D860: #REF!
Name E1070D860: #REF!
Name E1070D860: #REF!
Name E1070D860: #REF!
Name fondoii2015: '[3]BASE DE DATOS'!$C$313:$C$319
Name fondoii2015: '[3]BASE DE DATOS'!$C$313:$C$319
Name fondoii2015: '[3]BASE DE DATOS'!$C$313:$C$319
Name inver2015: '[3]BASE DE DATOS'!$A$306:$A$309
Name inver2015: '[3]BASE DE DATOS'!$A$306:$A$309
Name inver2015: '[3]BASE DE DATOS'!$A$306:$A$309
Name invers2015: '[3]BASE DE DATOS'!$A$2:$A$298
Name invers2015: '[3]BASE DE DATOS'!$A$2:$A$298
Name invers2015: '[3]BASE DE DATOS'!$A$2:$A$298
Name inversione2015: '[3]BASE DE DATOS'!$C$326:$C$336
Name inversione2015: '[3]BASE DE DATOS'!$C$326:$C$336
Name inversione2015: '[3]BASE DE DATOS'!$C$326:$C$336
Name LLLLLL: #REF!
Name LLLLLL: #REF!

Sheet INGRESOS
A1: INSTITUTO MUNICIPAL DE PLANEACION DE IRAPUATO GUANAJUATO
A2: PRONOSTICO DE INGRESOS 2026
A5: F F | B5: CRI | D5: INGRESOS
A7: 1126151100 | B7: 9103 | C7: APORTACIONES DEL MUNICIPIO | D7: 29474579
A8: TOTAL PRONOSTICO DE INGRESOS | D8: =SUM(D7:D7) -> 29474579

Sheet EGRESOS (2)
A1: INSTITUTO MUNICIPAL DE PLANEACION DE IRAPUATO GUANAJUATO
A2: PRESUPUESTO DE EGRESOS 2026
A3: Clasificación por objeto del gasto
A6: PARTIDA | B6: CONCEPTO | C6: EGRESOS
A8: 1130 | B8: SUELDOS BASE AL PERSONAL PERMANENTE | C8: 5330312.8
A9: 1321 | B9: PRIMA VACACIONAL | C9: 113799.72
A10: 1323 | B10: GRATIFICACION DE FIN DE AÑO | C10: 758664.78
A11: 1413 | B11: APORTACIONES IMSS | C11: 669022.25 | E11: 1631761.6 | F11: 0.41 | G11: =+E11*F11 -> 669022.25
A12: 1421 | B12: APORTACIONES INFONAVIT | C12: 440575.63 | F12: 0.27 | G12: =+E11*F12 -> 440575.63
A13: 1430 | B13: APORTACIONES AL SISTEMA PARA EL RETIRO | C13: 522163.71 | F13: 0.32 | G13: =+E11*F13 -> 522163.71
A14: 1520 | B14: INDEMNIZACIONES | C14: 1640571
A15: 1541 | B15: PREMIO DE ASISTENCIA | C15: 673238.7
A16: 1542 | B16: PREMIO DE PUNTUALIDAD | C16: =+C15 -> 673238.7
A17: 1543 | B17: DESPENSA | C17: 172830.55
A18: 1544 | B18: APOYO A LA CULTURA | C18: 76219.88
A19: 1590 | B19: OTRAS PRESTACIONES SOCIALES Y ECONOMICAS | C19: 6500
B20: SERVICIOS PERSONALES | C20: =SUM(C8:C19) -> 11077138
A21: 2110 | B21: MATERIALES Y ÚTILES DE OFICINA | C21: 24300
A22: 2120 | B22: MATERIALES Y UTILES DE IMPRESIÓN Y REPRODUCCIÓN | C22: 85000
A23: 2150 | B23: MATERIAL IMPRESO E INFORMACION DIGITAL | C23: 15000
A24: 2160 | B24: MATERIAL DE LIMPIEZA | C24: 12500
A25: 2211 | B25: PRODUCTOS ALIMENTICIOS PARA PERSONAL EN LAS INSTACIONES DEPENDENCIAS Y ENTIDADES | C25: 85000
A26: 2530 | B26: MEDICINAS Y PRODUCTOS FARMACEUTICOS | C26: 3000
A27: 2610 | B27: COMBUSTIBLES, LUBRICANTES Y ADITIVOS PARA MAQUINARIA Y SERVICIOS ADMINISTRATIVOS | C27: 51621
A28: 2710 | B28: VESTUARIO Y UNIFORMES | C28: 33600
A29: 2940 | B29: REFACCIONES Y ACCESORIOS MENORES DE EQUIPO COMPUTO TECNOLOGIAS DE LA INFORMACION | C29: 28500
B30: MATERIALES Y SUMINISTROS | C30: =SUM(C21:C29) -> 338521
A31: 3110 | B31: SERVICIO DE ENERGÍA ELÉCTRICA | C31: 140000
A32: 3130 | B32: SERVICIO DE AGUA | C32: 3600
A33: 3140 | B33: SERVICIO TELEFONÍA TRADICIONAL | C33: 28320
A34: 3150 | B34: SERVICIO TELEFONIA CELULAR | C34: 30000
A35: 3170 | B35: SERVICIOS DE ACCESO A INTERNET, REDES Y PROCESAMIENTO DE INFORMACION | C35: 278000 | D35: =((18000*1.16)*12)+15000 -> 265560
A36: 3180 | B36: SERVICIO POSTAL | C36: 5000
A37: 3220 | B37: ARRENDAMIENTO DE EDIFICIOS Y LOCALES | C37: 415149.24
A38: 3230 | B38: ARRENDAMIENTO DE MOBILIARIO Y EQUIPO DE ADMINISTRACION EDUCACIONAL Y RECREATIVO | C38: 60000
A39: 3290 | B39: OTROS ARRENDAMIENTOS | C39: 25000
A40: 3310 | B40: SERVICIO LEGALES DE CONTABILIDAD Y RELACIONADOS | C40: 315000
A41: 3360 | B41: SERVICIO APOYO ADMINISTRATIVO, FOTOCOPIADO E IMPRESIÓN | C41: 18500
A42: 3380 | B42: SERVICIO DE VIGILANCIA | C42: 4656
A43: 3390 | B43: SERVICIOS PROFESIONALES CIENTIFICOS TECNICOS INTEGRALES | C43: 15666999
...

Sheet ANALITICO
A1: INSTITUTO MUNICIPAL DE PLANEACION DE IRAPUATO GUANAJUATO
A2: PRESUPUESTO DE EGRESOS 2026
A3: Analítico de egresos
A6: U.R. | B6: PGR | C6: FIN | D6: PROP | E6: COMP | F6: ACT | G6: CODIGO PROGRAMÁTICO | M6: EGRESOS
A9: M150900400 Instituto Municipal de Planeación del Municipio de Irapuato, Gto | M9: =+M12+M29+M36+M41+M47+M52+M58+M63+M69+M74+M79+M84 -> 29474579 | N9: =+'EGRESOS (2)'!C66-M9 -> 0 | O9: =+M9-N9 -> 29474579
A10: M150900400 Instituto Municipal de Planeación del Municipio de Irapuato, Gto
A11: Programa de Gobierno Municipal 2024-2027
E12: SERVICIOS PERSONALES | M12: =+M25+M27 -> 11317904
G13: 1126151100 | H13: 31120M15P010000 | I13: 132 | J13: P0003 | K13: 1130 | L13: SUELDOS BASE | M13: 5330312.8
G14: 1126151100 | H14: 31120M15P010000 | I14: 132 | J14: P0003 | K14: 1321 | L14: PRIMA VACACIONAL | M14: 113799.72
G15: 1126151100 | H15: 31120M15P010000 | I15: 132 | J15: P0003 | K15: 1323 | L15: GRATIFICACIONES DE FIN DE AÑO | M15: 758664.78
G16: 1126151100 | H16: 31120M15P010000 | I16: 132 | J16: P0003 | K16: 1413 | L16: APORTACIONES IMSS | M16: 669022.25
G17: 1126151100 | H17: 31120M15P010000 | I17: 132 | J17: P0003 | K17: 1421 | L17: APORTACIONES AL SISTEMA DE VIVIENDA | M17: 440575.63
G18: 1126151100 | H18: 31120M15P010000 | I18: 132 | J18: P0003 | K18: 1430 | L18: APORTACIONES AL SISTEMA PARA EL RETIRO | M18: 522163.71
G19: 1126151100 | H19: 31120M15P010000 | I19: 132 | J19: P0003 | K19: 1520 | L19: INDEMNIZACIONES | M19: 1640571
G20: 1126151100 | H20: 31120M15P010000 | I20: 132 | J20: P0003 | K20: 1541 | L20: PREMIO DE PUNTUALIDAD | M20: 673238.7
G21: 1126151100 | H21: 31120M15P010000 | I21: 132 | J21: P0003 | K21: 1542 | L21: PREMIO DE ASISTENCIA | M21: 673238.7
G22: 1126151100 | H22: 31120M15P010000 | I22: 132 | J22: P0003 | K22: 1543 | L22: DESPENSA | M22: 172830.55
G23: 1126151100 | H23: 31120M15P010000 | I23: 132 | J23: P0003 | K23: 1544 | L23: APOYO A LA CULTURA | M23: 76219.88
G24: 1126151100 | H24: 31120M15P010000 | I24: 132 | J24: P0003 | K24: 1590 | L24: OTRAS PRESTACIONES | M24: 6500
L25: IMPORTE TOTAL PÓR SUELDOS Y SALARIOS | M25: =SUM(M13:M24) -> 11077138
G26: 1126151100 | H26: 31120M15P010000 | I26: 132 | J26: P0003 | K26: 3980 | L26: IMPUESTO SOBRE NOMINAS | M26: 240766
L27: IMPORTE TOTAL POR SERVICIOS GENERALES | M27: =SUM(M26) -> 240766
E28: PE03. Patrimonio Histórico | M28: =+M29 -> 1845000
E29: C4 | F29: Estrategias, lineamientos, objetivos y acciones en el Centro Histórico establecidas | M29: =+M30 -> 1845000
E30: C4A2 | F30: Plan control de riesgos y catlaogos de inmuebes de patrimonio cultural de la zona centro | M30: =+M31 -> 1845000
H31: IMPORTE TOTAL POR MATERIALES Y SUMINISTROS | M31: =+M32+M33 -> 1845000
G32: 1126151100 | H32: 31120M15P030000 | I32: 132 | J32: E10030402 | K32: 3390 | L32: SERVICIOS PROFESIONALES CIENTIFICOS TECNICOS INTEGRALES | M32: 1800000
G33: 1126151100 | H33: 31120M15P030000 | I33: 132 | J33: =+J32 -> E10030402 | K33: 3830 | L33: CONGRESOS Y CONVENCIONES | M33: 45000
H34: IMPORTE TOTAL POR SERVICIOS GENERALES | M34: =SUM(M33:M33) -> 45000
E35: PE07. Irapuato Tu Huella | M35: =+M36 -> 800000
E36: C1 | F36: Manual “Irapuato, Tu Huella” elaborado | M36: =+M37 -> 800000
E37: C1 A1 | F37: Generación de estrategias, lineamientos y políticas para fortalecer el sentido de pertenencia | M37: =+M39 -> 800000
G38: 1126151100 | H38: 31120M15P050000 | I38: 132 | J38: P10070101 | K38: 3390 | L38: SERVICIOS PROFESIONALES CIENTIFICOS TECNICOS INTEGRALES | M38: 800000
H39: IMPORTE TOTAL POR SERVICIOS GENERALES | M39: =SUM(M38:M38) -> 800000
E40: PE30. Alianza Gran Bajío | M40: =+M41 -> 835000
E41: C1 | F41: Colaboración entre empresas locales de diversos sectores económicos fortalecida | M41: =+M42 -> 835000
E42: C1 A1 | F42: Fomento a la colaboración entre empresas locales de diversos sectores económicos | M42: =+M45 -> 835000
G43: 1126151100 | H43: 31120M15P030000 | I43: 132 | J43: P10300101 | K43: 3390 | L43: SERVICIOS PROFESIONALES CIENTIFICOS TECNICOS INTEGRALES | M43: 800000
G44: 1126151100 | H44: 31120M15P030000 | I44: 132 | J44: =+J43 -> P10300101 | K44: 3830 | L44: CONGRESOS Y CONVENCIONES | M44: 35000
...

Sheet EGRESOS POR COMPONENTE DECIMALE
A1: INSTITUTO MUNICIPAL DE PLANEACION DE IRAPUATO GUANAJUATO | D1: SERV PERSONALES | E1: PE03. Patrimonio Histórico | F1: PE07 Irapuato tu huella | G1: PE30. Alianza Gran Bajío C2 | H1: PE37. Accesibilidad universal en obras y equipamientos urbanos | I1: PE54. Vivienda | J1: PE61. Sistema de Parques | K1: PE62 Foro Urbano Sostenible | L1: PE64.-Tren de Pasajeros y Carga C4 | M1: PE70. Diálogos permanentes. C5 | N1: PE71 PRESUPUESTO PARTICIPATIVO COPLADEMI | P1: Programa Operativo Anual IMPLAN C10
A2: PRESUPUESTO DE EGRESOS 2026 | D2: A1 | E2: AE11 | P2: Diseñar, gestionar, evaluar y dar seguimiento a los Instrumentos de Planeación | Q2: Realizar acciones de colaboacion con COPLADEG y COPLADEMI | R2: Consejo Directivo del IMPLAN, analizar y revisar las lineas de planeación para el desarrollo del municipio y | S2: Administrar y Fortalecer la infraestructura tecnológica y estructura operativa del IMPLAN
A3: Clasificación por objeto del gasto | E3: 0.05 | G3: 0.01 | H3: 0.01 | I3: 0.01 | K3: 0.1 | L3: 0.05 | M3: 0.05 | N3: 0.25 | O3: 0.01 | P3: 1 | T3: =SUM(D3:S3) -> 1.54 | U3: =1-T3 -> -0.54
D4: 0.63 | E4: 0.63 | F4: 0.37 | G4: =100/100 -> 1 | H4: 1 | I4: 0.5 | J4: 0.5 | K4: 1 | L4: 1 | M4: 1 | N4: 1 | O4: 1 | P4: 0.4 | Q4: 0.1 | R4: 0.1 | S4: 0.4
A6: PARTIDA | B6: CONCEPTO | C6: EGRESOS | T6: SUMA | U6: DIFERENCIA
A8: 1130 | B8: SUELDOS BASE AL PERSONAL PERMANENTE | C8: =+'EGRESOS (2)'!C8 -> 5330312.8 | D8: 0 | E8: 0 | F8: 0 | G8: 0 | H8: 0 | I8: 0 | J8: 0 | K8: 0 | L8: 0 | M8: 0 | N8: 0 | O8: 0 | P8: 0 | Q8: 0 | R8: 0 | S8: 5330312.8 | T8: =SUM(D8:S8) -> 5330312.8 | U8: =+C8-T8 -> 0
A9: 1321 | B9: PRIMA VACACIONAL | C9: =+'EGRESOS (2)'!C9 -> 113799.72 | D9: 0 | E9: 0 | F9: 0 | G9: 0 | H9: 0 | I9: 0 | J9: 0 | K9: 0 | L9: 0 | M9: 0 | N9: 0 | O9: 0 | P9: 0 | Q9: 0 | R9: 0 | S9: 113799.72 | T9: =SUM(D9:S9) -> 113799.72 | U9: =+C9-T9 -> 0
A10: 1323 | B10: GRATIFICACION DE FIN DE AÑO | C10: =+'EGRESOS (2)'!C10 -> 758664.78 | D10: 0 | E10: 0 | F10: 0 | G10: 0 | H10: 0 | I10: 0 | J10: 0 | K10: 0 | L10: 0 | M10: 0 | N10: 0 | O10: 0 | P10: 0 | Q10: 0 | R10: 0 | S10: 758664.78 | T10: =SUM(D10:S10) -> 758664.78 | U10: =+C10-T10 -> 0
A11: 1413 | B11: APORTACIONES IMSS | C11: =+'EGRESOS (2)'!C11 -> 669022.25 | D11: 0 | E11: 0 | F11: 0 | G11: 0 | H11: 0 | I11: 0 | J11: 0 | K11: 0 | L11: 0 | M11: 0 | N11: 0 | O11: 0 | P11: 0 | Q11: 0 | R11: 0 | S11: 669022.25 | T11: =SUM(D11:S11) -> 669022.25 | U11: =+C11-T11 -> 0
A12: 1421 | B12: APORTACIONES INFONAVIT | C12: =+'EGRESOS (2)'!C12 -> 440575.63 | D12: 0 | E12: 0 | F12: 0 | G12: 0 | H12: 0 | I12: 0 | J12: 0 | K12: 0 | L12: 0 | M12: 0 | N12: 0 | O12: 0 | P12: 0 | Q12: 0 | R12: 0 | S12: 440575.63 | T12: =SUM(D12:S12) -> 440575.63 | U12: =+C12-T12 -> 0
A13: 1430 | B13: APORTACIONES AL SISTEMA PARA EL RETIRO | C13: =+'EGRESOS (2)'!C13 -> 522163.71 | D13: 0 | E13: 0 | F13: 0 | G13: 0 | H13: 0 | I13: 0 | J13: 0 | K13: 0 | L13: 0 | M13: 0 | N13: 0 | O13: 0 | P13: 0 | Q13: 0 | R13: 0 | S13: 522163.71 | T13: =SUM(D13:S13) -> 522163.71 | U13: =+C13-T13 -> 0
A14: 1520 | B14: INDEMNIZACIONES | C14: =+'EGRESOS (2)'!C14 -> 1640571 | D14: 0 | E14: 0 | F14: 0 | G14: 0 | H14: 0 | I14: 0 | J14: 0 | K14: 0 | L14: 0 | M14: 0 | N14: 0 | O14: 0 | P14: 0 | Q14: 0 | R14: 0 | S14: 1640571 | T14: =SUM(D14:S14) -> 1640571 | U14: =+C14-T14 -> 0
A15: 1541 | B15: PREMIO DE ASISTENCIA | C15: =+'EGRESOS (2)'!C15 -> 673238.7 | D15: 0 | E15: 0 | F15: 0 | G15: 0 | H15: 0 | I15: 0 | J15: 0 | K15: 0 | L15: 0 | M15: 0 | N15: 0 | O15: 0 | P15: 0 | Q15: 0 | R15: 0 | S15: 673238.7 | T15: =SUM(D15:S15) -> 673238.7 | U15: =+C15-T15 -> 0
A16: 1542 | B16: PREMIO DE PUNTUALIDAD | C16: =+'EGRESOS (2)'!C16 -> 673238.7 | D16: 0 | E16: 0 | F16: 0 | G16: 0 | H16: 0 | I16: 0 | J16: 0 | K16: 0 | L16: 0 | M16: 0 | N16: 0 | O16: 0 | P16: 0 | Q16: 0 | R16: 0 | S16: 673238.7 | T16: =SUM(D16:S16) -> 673238.7 | U16: =+C16-T16 -> 0
A17: 1543 | B17: DESPENSA | C17: =+'EGRESOS (2)'!C17 -> 172830.55 | D17: 0 | E17: 0 | F17: 0 | G17: 0 | H17: 0 | I17: 0 | J17: 0 | K17: 0 | L17: 0 | M17: 0 | N17: 0 | O17: 0 | P17: 0 | Q17: 0 | R17: 0 | S17: 172830.55 | T17: =SUM(D17:S17) -> 172830.55 | U17: =+C17-T17 -> 0
A18: 1544 | B18: APOYO A LA CULTURA | C18: =+'EGRESOS (2)'!C18 -> 76219.88 | D18: 0 | E18: 0 | F18: 0 | G18: 0 | H18: 0 | I18: 0 | J18: 0 | K18: 0 | L18: 0 | M18: 0 | N18: 0 | O18: 0 | P18: 0 | Q18: 0 | R18: 0 | S18: 76219.88 | T18: =SUM(D18:S18) -> 76219.88 | U18: =+C18-T18 -> 0
A19: 1590 | B19: OTRAS PRESTACIONES SOCIALES Y ECONOMICAS | C19: =+'EGRESOS (2)'!C19 -> 6500 | D19: 0 | E19: 0 | F19: 0 | G19: 0 | H19: 0 | I19: 0 | J19: 0 | K19: 0 | L19: 0 | M19: 0 | N19: 0 | O19: 0 | P19: 0 | Q19: 0 | R19: 0 | S19: 6500 | T19: =SUM(D19:S19) -> 6500 | U19: =+C19-T19 -> 0
A20: 3980 | B20: IMPUESTO SOBRE NOMINAS | C20: =+'EGRESOS (2)'!C60 -> 240766 | D20: 0 | E20: 0 | F20: 0 | G20: 0 | H20: 0 | I20: 0 | J20: 0 | K20: 0 | L20: 0 | M20: 0 | N20: 0 | O20: 0 | P20: 0 | Q20: 0 | R20: 0 | S20: 240766 | T20: =SUM(D20:S20) -> 240766 | U20: =+C20-T20 -> 0
B21: SERVICIOS PERSONALES | C21: =SUM(C8:C20) -> 11317904 | D21: =SUM(D8:D20) -> 0 | E21: =SUM(E8:E20) -> 0 | F21: =SUM(F8:F20) -> 0 | G21: =SUM(G8:G20) -> 0 | H21: =SUM(H8:H20) -> 0 | I21: =SUM(I8:I20) -> 0 | J21: =SUM(J8:J20) -> 0 | ... U21: =SUM(U8:U20) -> 0
A22: 2110 | B22: MATERIALES Y ÚTILES DE OFICINA | C22: =+'EGRESOS (2)'!C21 -> 24300 | D22: 0 | E22: 0 | F22: 0 | G22: 0 | H22: 0 | I22: 0 | J22: 0 | K22: 0 | L22: 0 | M22: 0 | N22: 0 | O22: 0 | P22: =(+C22*$P$3)*$P$4 -> 9720 | Q22: =(+C22*$P$3)*$Q$4 -> 2430 | R22: =(+C22*$P$3)*$R$4 -> 2430 | S22: =(+C22*$P$3)*$S$4 -> 9720 | T22: =SUM(E22:S22) -> 24300 | U22: =+T22-C22 -> 0
A23: 2120 | B23: MATERIALES Y UTILES DE IMPRESIÓN Y REPRODUCCIÓN | C23: =+'EGRESOS (2)'!C22 -> 85000 | D23: 0 | E23: 0 | F23: 0 | G23: 0 | H23: 0 | I23: 0 | J23: 0 | K23: 0 | L23: 0 | M23: 0 | N23: 0 | O23: 0 | P23: =(+C23*$P$3)*$P$4 -> 34000 | Q23: =(+C23*$P$3)*$Q$4 -> 8500 | R23: =(+C23*$P$3)*$R$4 -> 8500 | S23: =(+C23*$P$3)*$S$4 -> 34000 | T23: =SUM(E23:S23) -> 85000 | U23: =+T23-C23 -> 0
A24: 2150 | B24: MATERIAL IMPRESO E INFORMACION DIGITAL | C24: =+'EGRESOS (2)'!C23 -> 15000 | D24: 0 | E24: 0 | F24: 0 | G24: 0 | H24: 0 | I24: 0 | J24: 0 | K24: 0 | L24: 0 | M24: 0 | N24: 0 | O24: 0 | P24: =(+C24*$P$3)*$P$4 -> 6000 | Q24: =(+C24*$P$3)*$Q$4 -> 1500 | R24: =(+C24*$P$3)*$R$4 -> 1500 | S24: =(+C24*$P$3)*$S$4 -> 6000 | T24: =SUM(E24:S24) -> 15000 | U24: =+T24-C24 -> 0
A25: 2160 | B25: MATERIAL DE LIMPIEZA | C25: =+'EGRESOS (2)'!C24 -> 12500 | D25: 0 | E25: 0 | F25: 0 | G25: 0 | H25: 0 | I25: 0 | J25: 0 | K25: 0 | L25: 0 | M25: 0 | N25: 0 | O25: 0 | P25: =(+C25*$P$3)*$P$4 -> 5000 | Q25: =(+C25*$P$3)*$Q$4 -> 1250 | R25: =(+C25*$P$3)*$R$4 -> 1250 | S25: =(+C25*$P$3)*$S$4 -> 5000 | T25: =SUM(E25:S25) -> 12500 | U25: =+T25-C25 -> 0
A26: 2211 | B26: PRODUCTOS ALIMENTICIOS PARA PERSONAL EN LAS INSTACIONES DEPENDENCIAS Y ENTIDADES | C26: =+'EGRESOS (2)'!C25 -> 85000 | D26: 0 | E26: 0 | F26: 0 | G26: 0 | H26: 0 | I26: 0 | J26: 0 | K26: 0 | L26: 0 | M26: 0 | N26: 0 | O26: 0 | P26: =(+C26*$P$3)*$P$4 -> 34000 | Q26: =(+C26*$P$3)*$Q$4 -> 8500 | R26: =(+C26*$P$3)*$R$4 -> 8500 | S26: =(+C26*$P$3)*$S$4 -> 34000 | T26: =SUM(E26:S26) -> 85000 | U26: =+T26-C26 -> 0
A27: 2530 | B27: MEDICINAS Y PRODUCTOS FARMACEUTICOS | C27: =+'EGRESOS (2)'!C26 -> 3000 | D27: 0 | E27: 0 | F27: 0 | G27: 0 | H27: 0 | I27: 0 | J27: 0 | K27: 0 | L27: 0 | M27: 0 | N27: 0 | O27: 0 | P27: =(+C27*$P$3)*$P$4 -> 1200 | Q27: =(+C27*$P$3)*$Q$4 -> 300 | R27: =(+C27*$P$3)*$R$4 -> 300 | S27: =(+C27*$P$3)*$S$4 -> 1200 | T27: =SUM(E27:S27) -> 3000 | U27: =+T27-C27 -> 0
A28: 2611 | B28: COMBUSTIBLES, LUBRICANTES Y ADITIVOS PARA MAQUINARIA Y SERVICIOS ADMINISTRATIVOS | C28: =+'EGRESOS (2)'!C27 -> 51621 | D28: 0 | E28: 0 | F28: 0 | G28: 0 | H28: 0 | I28: 0 | J28: 0 | K28: 0 | L28: 0 | M28: 0 | N28: 0 | O28: 0 | P28: =(+C28*$P$3)*$P$4 -> 20648.4 | Q28: =(+C28*$P$3)*$Q$4 -> 5162.1 | R28: =(+C28*$P$3)*$R$4 -> 5162.1 | S28: =(+C28*$P$3)*$S$4 -> 20648.4 | T28: =SUM(E28:S28) -> 51621 | U28: =+T28-C28 -> 0
A29: 2710 | B29: VESTUARIO Y UNIFORMES | C29: =+'EGRESOS (2)'!C28 -> 33600 | D29: 0 | E29: 0 | F29: 0 | G29: 0 | H29: 0 | I29: 0 | J29: 0 | K29: 0 | L29: 0 | M29: 0 | N29: 0 | O29: 0 | P29: =(+C29*$P$3)*$P$4 -> 13440 | Q29: =(+C29*$P$3)*$Q$4 -> 3360 | R29: =(+C29*$P$3)*$R$4 -> 3360 | S29: =(+C29*$P$3)*$S$4 -> 13440 | T29: =SUM(E29:S29) -> 33600 | U29: =+T29-C29 -> 0
A30: 2940 | B30: REFACCIONES Y ACCESORIOS MENORES DE EQUIPO COMPUTO TECNOLOGIAS DE LA INFORMACION | C30: =+'EGRESOS (2)'!C29 -> 28500 | D30: 0 | E30: 0 | F30: 0 | G30: 0 | H30: 0 | I30: 0 | J30: 0 | K30: 0 | L30: 0 | M30: 0 | N30: 0 | O30: 0 | P30: =(+C30*$P$3)*$P$4 -> 11400 | Q30: =(+C30*$P$3)*$Q$4 -> 2850 | R30: =(+C30*$P$3)*$R$4 -> 2850 | S30: =(+C30*$P$3)*$S$4 -> 11400 | T30: =SUM(E30:S30) -> 28500 | U30: =+T30-C30 -> 0
B31: MATERIALES Y SUMINISTROS | C31: =SUM(C22:C30) -> 338521 | D31: =SUM(D22:D30) -> 0 | E31: =SUM(E22:E30) -> 0 | F31: =SUM(F22:F30) -> 0 | G31: =SUM(G22:G30) -> 0 | H31: =SUM(H22:H30) -> 0 | I31: =SUM(I22:I30) -> 0 | J31: =SUM(J22:J30) -> 0 | ... U31: =SUM(U22:U30) -> 0
A32: 3110 | B32: SERVICIO DE ENERGÍA ELÉCTRICA | C32: =+'EGRESOS (2)'!C31 -> 140000 | D32: 0 | E32: 0 | F32: 0 | G32: 0 | H32: 0 | I32: 0 | J32: 0 | K32: 0 | L32: 0 | M32: 0 | N32: 0 | O32: 0 | P32: =(+C32*$P$3)*$P$4 -> 56000 | Q32: =(+C32*$P$3)*$Q$4 -> 14000 | R32: =(+C32*$P$3)*$R$4 -> 14000 | S32: =(+C32*$P$3)*$S$4 -> 56000 | T32: =SUM(E32:S32) -> 140000 | U32: =+T32-C32 -> 0 | V32: 3110 | W32: =+A32-V32 -> 0
A33: 3130 | B33: SERVICIO DE AGUA | C33: =+'EGRESOS (2)'!C32 -> 3600 | D33: 0 | E33: 0 | F33: 0 | G33: 0 | H33: 0 | I33: 0 | J33: 0 | K33: 0 | L33: 0 | M33: 0 | N33: 0 | O33: 0 | P33: =(+C33*$P$3)*$P$4 -> 1440 | Q33: =(+C33*$P$3)*$Q$4 -> 360 | R33: =(+C33*$P$3)*$R$4 -> 360 | S33: =(+C33*$P$3)*$S$4 -> 1440 | T33: =SUM(E33:S33) -> 3600 | U33: =+T33-C33 -> 0 | V33: 3111
A34: 3140 | B34: SERVICIO TELEFONÍA TRADICIONAL | C34: =+'EGRESOS (2)'!C33 -> 28320 | D34: 0 | E34: 0 | F34: 0 | G34: 0 | H34: 0 | I34: 0 | J34: 0 | K34: 0 | L34: 0 | M34: 0 | N34: 0 | O34: 0 | P34: =(+C34*$P$3)*$P$4 -> 11328 | Q34: =(+C34*$P$3)*$Q$4 -> 2832 | R34: =(+C34*$P$3)*$R$4 -> 2832 | S34: =(+C34*$P$3)*$S$4 -> 11328 | T34: =SUM(E34:S34) -> 28320 | U34: =+T34-C34 -> 0 | V34: 3130
A35: 3150 | B35: SERVICIO TELEFONIA CELULAR | C35: =+'EGRESOS (2)'!C34 -> 30000 | D35: 0 | E35: 0 | F35: 0 | G35: 0 | H35: 0 | I35: 0 | J35: 0 | K35: 0 | L35: 0 | M35: 0 | N35: 0 | O35: 0 | P35: =(+C35*$P$3)*$P$4 -> 12000 | Q35: =(+C35*$P$3)*$Q$4 -> 3000 | R35: =(+C35*$P$3)*$R$4 -> 3000 | S35: =(+C35*$P$3)*$S$4 -> 12000 | T35: =SUM(E35:S35) -> 30000 | U35: =+T35-C35 -> 0 | V35: 3140
A36: 3170 | B36: SERVICIOS DE ACCESO A INTERNET, REDES Y PROCESAMIENTO DE INFORMACION | C36: =+'EGRESOS (2)'!C35 -> 278000 | D36: 0 | E36: 0 | F36: 0 | G36: 0 | H36: 0 | I36: 0 | J36: 0 | K36: 0 | L36: 0 | M36: 0 | N36: 0 | O36: 0 | P36: =(+C36*$P$3)*$P$4 -> 111200 | Q36: =(+C36*$P$3)*$Q$4 -> 27800 | R36: =(+C36*$P$3)*$R$4 -> 27800 | S36: =(+C36*$P$3)*$S$4 -> 111200 | T36: =SUM(E36:S36) -> 278000 | U36: =+T36-C36 -> 0 | V36: 3150
A37: 3180 | B37: SERVICIO POSTAL | C37: =+'EGRESOS (2)'!C36 -> 5000 | D37: 0 | E37: 0 | F37: 0 | G37: 0 | H37: 0 | I37: 0 | J37: 0 | K37: 0 | L37: 0 | M37: 0 | N37: 0 | O37: 0 | P37: =(+C37*$P$3)*$P$4 -> 2000 | Q37: =(+C37*$P$3)*$Q$4 -> 500 | R37: =(+C37*$P$3)*$R$4 -> 500 | S37: =(+C37*$P$3)*$S$4 -> 2000 | T37: =SUM(E37:S37) -> 5000 | U37: =+T37-C37 -> 0 | V37: 3170
A38: 3220 | B38: ARRENDAMIENTO DE EDIFICIOS Y LOCALES | C38: =+'EGRESOS (2)'!C37 -> 415149.24 | D38: 0 | E38: 0 | F38: 0 | G38: 0 | H38: 0 | I38: 0 | J38: 0 | K38: 0 | L38: 0 | M38: 0 | N38: 0 | O38: 0 | P38: =(+C38*$P$3)*$P$4 -> 166059.7 | Q38: =(+C38*$P$3)*$Q$4 -> 41514.924 | R38: =(+C38*$P$3)*$R$4 -> 41514.924 | S38: =(+C38*$P$3)*$S$4 -> 166059.7 | T38: =SUM(E38:S38) -> 415149.24 | U38: =+T38-C38 -> 0 | V38: 3180
A39: 3230 | B39: ARRENDAMIENTO DE MOBILIARIO Y EQUIPO DE ADMINISTRACION EDUCACIONAL Y RECREATIVO | C39: =+'EGRESOS (2)'!C38 -> 60000 | D39: 0 | E39: 0 | F39: 0 | G39: 0 | H39: 0 | I39: 0 | J39: 0 | K39: 0 | L39: 0 | M39: 0 | N39: 0 | O39: 0 | P39: =(+C39*$P$3)*$P$4 -> 24000 | Q39: =(+C39*$P$3)*$Q$4 -> 6000 | R39: =(+C39*$P$3)*$R$4 -> 6000 | S39: =(+C39*$P$3)*$S$4 -> 24000 | T39: =SUM(E39:S39) -> 60000 | U39: =+T39-C39 -> 0 | V39: 3180
A40: 3290 | B40: OTROS ARRENDAMIENTOS | C40: =+'EGRESOS (2)'!C39 -> 25000 | D40: 0 | E40: 0 | F40: 0 | G40: 0 | H40: 0 | I40: 0 | J40: 0 | K40: 0 | L40: 0 | M40: 0 | N40: 0 | O40: 0 | P40: =(+C40*$P$3)*$P$4 -> 10000 | Q40: =(+C40*$P$3)*$Q$4 -> 2500 | R40: =(+C40*$P$3)*$R$4 -> 2500 | S40: =(+C40*$P$3)*$S$4 -> 10000 | T40: =SUM(E40:S40) -> 25000 | U40: =+T40-C40 -> 0 | V40: 3220
A41: 3310 | B41: SERVICIO LEGALES DE CONTABILIDAD Y RELACIONADOS | C41: =+'EGRESOS (2)'!C40 -> 315000 | D41: 0 | E41: 0 | F41: 0 | G41: 0 | H41: 0 | I41: 0 | J41: 0 | K41: 0 | L41: 0 | M41: 0 | N41: 0 | O41: 0 | P41: 0 | Q41: 0 | R41: 0 | S41: 315000 | T41: =SUM(E41:S41) -> 315000 | U41: =+T41-C41 -> 0 | V41: 3290
A42: 3360 | B42: SERVICIO APOYO ADMINISTRATIVO, FOTOCOPIADO E IMPRESIÓN | C42: =+'EGRESOS (2)'!C41 -> 18500 | D42: 0 | E42: 0 | F42: 0 | G42: 0 | H42: 0 | I42: 0 | J42: 0 | K42: 0 | L42: 0 | M42: 0 | N42: 0 | O42: 0 | P42: =(+C42*$P$3)*$P$4 -> 7400 | Q42: =(+C42*$P$3)*$Q$4 -> 1850 | R42: =(+C42*$P$3)*$R$4 -> 1850 | S42: =(+C42*$P$3)*$S$4 -> 7400 | T42: =SUM(E42:S42) -> 18500 | U42: =+T42-C42 -> 0 | V42: 3310
...

Sheet ANALITICO (2)
A1: INSTITUTO MUNICIPAL DE PLANEACION DE IRAPUATO GUANAJUATO
A2: PRESUPUESTO DE EGRESOS 2026
A3: Analítico de egresos
A6: U.R. | B6: PGR | C6: FIN | D6: PROP | E6: COMP | F6: ACT | G6: CODIGO PROGRAMÁTICO | M6: EGRESOS | N6: ENERO | O6: FEBRERO | P6: MARZO | Q6: ABRIL | R6: MAYO | S6: JUNIO | T6: JULIO | U6: AGOSTO | V6: SEPTIEMBRE | W6: OCTUBRE | X6: NOVIEMBRE | Y6: DICIEMBRE | Z6: SUMA | AA6: DIFERENCIA
A9: M150900400 Instituto Municipal de Planeación del Municipio de Irapuato, Gto | M9: =+M12+M28+M34+M38+M43+M47+M52+M56+M61+M65+M70+M75 -> 29474579 | N9: =+N12+N28+N34+N38+N43+N47+N52+N56+N61+N65+N70+N75 -> 29474584 | O9: =+O12+O28+O34+O38+O43+O47+O52+O56+O61+O65+O70+O75 -> 29474589 | P9: =+P12+P28+P34+P38+P43+P47+P52+P56+P61+P65+P70+P75 -> 29474594 | Q9: =+Q12+Q28+Q34+Q38+Q43+Q47+Q52+Q56+Q61+Q65+Q70+Q75 -> 29474599 | R9: =+R12+R28+R34+R38+R43+R47+R52+R56+R61+R65+R70+R75 -> 29474604 | S9: =+S12+S28+S34+S38+S43+S47+S52+S56+S61+S65+S70+S75 -> 29474609 | T9: =+T12+T28+T34+T38+T43+T47+T52+T56+T61+T65+T70+T75 -> 29474614 | ... AA9: =+AA12+AA28+AA34+AA38+AA43+AA47+AA52+AA56+AA61+AA65+AA70+AA75 -> 29474649
A10: M150900400 Instituto Municipal de Planeación del Municipio de Irapuato, Gto
A11: Programa de Gobierno Municipal 2024-2027
E12: SERVICIOS PERSONALES | M12: =+M25+M27 -> 11317904 | N12: =+N25+N27 -> 11317905 | O12: =+O25+O27 -> 11317906 | P12: =+P25+P27 -> 11317907 | Q12: =+Q25+Q27 -> 11317908 | R12: =+R25+R27 -> 11317909 | S12: =+S25+S27 -> 11317910 | T12: =+T25+T27 -> 11317911 | ... AA12: =+AA25+AA27 -> 11317918
G13: 1126151100 | H13: 31120M15P010000 | I13: 132 | J13: P0003 | K13: 1130 | L13: SUELDOS BASE | M13: 5330312.8 | N13: 5330312.8 | O13: 5330312.8 | P13: 5330312.8 | Q13: 5330312.8 | R13: 5330312.8 | S13: 5330312.8 | T13: 5330312.8 | U13: 5330312.8 | V13: 5330312.8 | W13: 5330312.8 | X13: 5330312.8 | Y13: 5330312.8 | Z13: 5330312.8 | AA13: 5330312.8
G14: 1126151100 | H14: 31120M15P010000 | I14: 132 | J14: P0003 | K14: 1321 | L14: PRIMA VACACIONAL | M14: 113799.72 | N14: 113799.72 | O14: 113799.72 | P14: 113799.72 | Q14: 113799.72 | R14: 113799.72 | S14: 113799.72 | T14: 113799.72 | U14: 113799.72 | V14: 113799.72 | W14: 113799.72 | X14: 113799.72 | Y14: 113799.72 | Z14: 113799.72 | AA14: 113799.72
G15: 1126151100 | H15: 31120M15P010000 | I15: 132 | J15: P0003 | K15: 1323 | L15: GRATIFICACIONES DE FIN DE AÑO | M15: 758664.78 | N15: 758664.78 | O15: 758664.78 | P15: 758664.78 | Q15: 758664.78 | R15: 758664.78 | S15: 758664.78 | T15: 758664.78 | U15: 758664.78 | V15: 758664.78 | W15: 758664.78 | X15: 758664.78 | Y15: 758664.78 | Z15: 758664.78 | AA15: 758664.78
G16: 1126151100 | H16: 31120M15P010000 | I16: 132 | J16: P0003 | K16: 1413 | L16: APORTACIONES IMSS | M16: 669022.25 | N16: 669022.25 | O16: 669022.25 | P16: 669022.25 | Q16: 669022.25 | R16: 669022.25 | S16: 669022.25 | T16: 669022.25 | U16: 669022.25 | V16: 669022.25 | W16: 669022.25 | X16: 669022.25 | Y16: 669022.25 | Z16: 669022.25 | AA16: 669022.25
G17: 1126151100 | H17: 31120M15P010000 | I17: 132 | J17: P0003 | K17: 1421 | L17: APORTACIONES AL SISTEMA DE VIVIENDA | M17: 440575.63 | N17: 440575.63 | O17: 440575.63 | P17: 440575.63 | Q17: 440575.63 | R17: 440575.63 | S17: 440575.63 | T17: 440575.63 | U17: 440575.63 | V17: 440575.63 | W17: 440575.63 | X17: 440575.63 | Y17: 440575.63 | Z17: 440575.63 | AA17: 440575.63
G18: 1126151100 | H18: 31120M15P010000 | I18: 132 | J18: P0003 | K18: 1430 | L18: APORTACIONES AL SISTEMA PARA EL RETIRO | M18: 522163.71 | N18: 522163.71 | O18: 522163.71 | P18: 522163.71 | Q18: 522163.71 | R18: 522163.71 | S18: 522163.71 | T18: 522163.71 | U18: 522163.71 | V18: 522163.71 | W18: 522163.71 | X18: 522163.71 | Y18: 522163.71 | Z18: 522163.71 | AA18: 522163.71
G19: 1126151100 | H19: 31120M15P010000 | I19: 132 | J19: P0003 | K19: 1520 | L19: INDEMNIZACIONES | M19: 1640571 | N19: 1640571 | O19: 1640571 | P19: 1640571 | Q19: 1640571 | R19: 1640571 | S19: 1640571 | T19: 1640571 | U19: 1640571 | V19: 1640571 | W19: 1640571 | X19: 1640571 | Y19: 1640571 | Z19: 1640571 | AA19: 1640571
G20: 1126151100 | H20: 31120M15P010000 | I20: 132 | J20: P0003 | K20: 1541 | L20: PREMIO DE PUNTUALIDAD | M20: 673238.7 | N20: 673238.7 | O20: 673238.7 | P20: 673238.7 | Q20: 673238.7 | R20: 673238.7 | S20: 673238.7 | T20: 673238.7 | U20: 673238.7 | V20: 673238.7 | W20: 673238.7 | X20: 673238.7 | Y20: 673238.7 | Z20: 673238.7 | AA20: 673238.7
G21: 1126151100 | H21: 31120M15P010000 | I21: 132 | J21: P0003 | K21: 1542 | L21: PREMIO DE ASISTENCIA | M21: 673238.7 | N21: 673238.7 | O21: 673238.7 | P21: 673238.7 | Q21: 673238.7 | R21: 673238.7 | S21: 673238.7 | T21: 673238.7 | U21: 673238.7 | V21: 673238.7 | W21: 673238.7 | X21: 673238.7 | Y21: 673238.7 | Z21: 673238.7 | AA21: 673238.7
G22: 1126151100 | H22: 31120M15P010000 | I22: 132 | J22: P0003 | K22: 1543 | L22: DESPENSA | M22: 172830.55 | N22: 172830.55 | O22: 172830.55 | P22: 172830.55 | Q22: 172830.55 | R22: 172830.55 | S22: 172830.55 | T22: 172830.55 | U22: 172830.55 | V22: 172830.55 | W22: 172830.55 | X22: 172830.55 | Y22: 172830.55 | Z22: 172830.55 | AA22: 172830.55
G23: 1126151100 | H23: 31120M15P010000 | I23: 132 | J23: P0003 | K23: 1544 | L23: APOYO A LA CULTURA | M23: 76219.88 | N23: 76219.88 | O23: 76219.88 | P23: 76219.88 | Q23: 76219.88 | R23: 76219.88 | S23: 76219.88 | T23: 76219.88 | U23: 76219.88 | V23: 76219.88 | W23: 76219.88 | X23: 76219.88 | Y23: 76219.88 | Z23: 76219.88 | AA23: 76219.88
G24: 1126151100 | H24: 31120M15P010000 | I24: 132 | J24: P0003 | K24: 1590 | L24: OTRAS PRESTACIONES | M24: 6500 | N24: 6500 | O24: 6500 | P24: 6500 | Q24: 6500 | R24: 6500 | S24: 6500 | T24: 6500 | U24: 6500 | V24: 6500 | W24: 6500 | X24: 6500 | Y24: 6500 | Z24: 6500 | AA24: 6500
L25: IMPORTE TOTAL PÓR SUELDOS Y SALARIOS | M25: =SUM(M13:M24) -> 11077138 | N25: =SUM(N13:N24) -> 11077138 | O25: =SUM(O13:O24) -> 11077138 | P25: =SUM(P13:P24) -> 11077138 | Q25: =SUM(Q13:Q24) -> 11077138 | R25: =SUM(R13:R24) -> 11077138 | S25: =SUM(S13:S24) -> 11077138 | T25: =SUM(T13:T24) -> 11077138 | ... AA25: =SUM(AA13:AA24) -> 11077138
G26: 1126151100 | H26: 31120M15P010000 | I26: 132 | J26: P0003 | K26: 3980 | L26: IMPUESTO SOBRE NOMINAS | M26: 240766 | N26: 240767 | O26: 240768 | P26: 240769 | Q26: 240770 | R26: 240771 | S26: 240772 | T26: 240773 | U26: 240774 | V26: 240775 | W26: 240776 | X26: 240777 | Y26: 240778 | Z26: 240779 | AA26: 240780
L27: IMPORTE TOTAL POR SERVICIOS GENERALES | M27: =SUM(M26) -> 240766 | N27: =SUM(N26) -> 240767 | O27: =SUM(O26) -> 240768 | P27: =SUM(P26) -> 240769 | Q27: =SUM(Q26) -> 240770 | R27: =SUM(R26) -> 240771 | S27: =SUM(S26) -> 240772 | T27: =SUM(T26) -> 240773 | ... AA27: =SUM(AA26) -> 240780
E28: C1 | F28: Estrategias, lineamientos, objetivos y acciones en el Centro Histórico establecidas | M28: =+M29 -> 1845000 | N28: =+N29 -> 1845000 | O28: =+O29 -> 1845000 | P28: =+P29 -> 1845000 | Q28: =+Q29 -> 1845000 | R28: =+R29 -> 1845000 | S28: =+S29 -> 1845000 | T28: =+T29 -> 1845000 | ... AA28: =+AA29 -> 1845000
E29: C1A1 | F29: Plan control de riesgos y catlaogos de inmuebes de patrimonio cultural de la zona centro | M29: =+M30 -> 1845000 | N29: =+N30 -> 1845000 | O29: =+O30 -> 1845000 | P29: =+P30 -> 1845000 | Q29: =+Q30 -> 1845000 | R29: =+R30 -> 1845000 | S29: =+S30 -> 1845000 | T29: =+T30 -> 1845000 | ... AA29: =+AA30 -> 1845000
H30: IMPORTE TOTAL POR MATERIALES Y SUMINISTROS | M30: =+M31+M32 -> 1845000 | N30: =+N31+N32 -> 1845000 | O30: =+O31+O32 -> 1845000 | P30: =+P31+P32 -> 1845000 | Q30: =+Q31+Q32 -> 1845000 | R30: =+R31+R32 -> 1845000 | S30: =+S31+S32 -> 1845000 | T30: =+T31+T32 -> 1845000 | ... AA30: =+AA31+AA32 -> 1845000
G31: 1126151100 | H31: 31120M15P030000 | I31: 132 | J31: P00030501 | K31: 3390 | L31: SERVICIOS PROFESIONALES CIENTIFICOS TECNICOS INTEGRALES | M31: 1800000 | N31: 1800000 | O31: 1800000 | P31: 1800000 | Q31: 1800000 | R31: 1800000 | S31: 1800000 | T31: 1800000 | U31: 1800000 | V31: 1800000 | W31: 1800000 | X31: 1800000 | Y31: 1800000 | Z31: 1800000 | AA31: 1800000
G32: 1126151100 | H32: 31120M15P030000 | I32: 132 | J32: P00030501 | K32: 3830 | L32: CONGRESOS Y CONVENCIONES | M32: 45000 | N32: 45000 | O32: 45000 | P32: 45000 | Q32: 45000 | R32: 45000 | S32: 45000 | T32: 45000 | U32: 45000 | V32: 45000 | W32: 45000 | X32: 45000 | Y32: 45000 | Z32: 45000 | AA32: 45000
H33: IMPORTE TOTAL POR SERVICIOS GENERALES | M33: =SUM(M32:M32) -> 45000 | N33: =SUM(N32:N32) -> 45000 | O33: =SUM(O32:O32) -> 45000 | P33: =SUM(P32:P32) -> 45000 | Q33: =SUM(Q32:Q32) -> 45000 | R33: =SUM(R32:R32) -> 45000 | S33: =SUM(S32:S32) -> 45000 | T33: =SUM(T32:T32) -> 45000 | ... AA33: =SUM(AA32:AA32) -> 45000
E34: C1 | F34: Manual “Irapuato, Tu Huella” elaborado | M34: =+M35 -> 800000 | N34: =+N35 -> 800001 | O34: =+O35 -> 800002 | P34: =+P35 -> 800003 | Q34: =+Q35 -> 800004 | R34: =+R35 -> 800005 | S34: =+S35 -> 800006 | T34: =+T35 -> 800007 | ... AA34: =+AA35 -> 800014
E35: A1 | F35: Plan de Irapuato tu Huella | M35: =+M37 -> 800000 | N35: =+N37 -> 800001 | O35: =+O37 -> 800002 | P35: =+P37 -> 800003 | Q35: =+Q37 -> 800004 | R35: =+R37 -> 800005 | S35: =+S37 -> 800006 | T35: =+T37 -> 800007 | ... AA35: =+AA37 -> 800014
G36: 1126151100 | H36: 31120M15P050000 | I36: 132 | J36: P00030502 | K36: 3390 | L36: SERVICIOS PROFESIONALES CIENTIFICOS TECNICOS INTEGRALES | M36: 800000 | N36: 800001 | O36: 800002 | P36: 800003 | Q36: 800004 | R36: 800005 | S36: 800006 | T36: 800007 | U36: 800008 | V36: 800009 | W36: 800010 | X36: 800011 | Y36: 800012 | Z36: 800013 | AA36: 800014
H37: IMPORTE TOTAL POR SERVICIOS GENERALES | M37: =SUM(M36:M36) -> 800000 | N37: =SUM(N36:N36) -> 800001 | O37: =SUM(O36:O36) -> 800002 | P37: =SUM(P36:P36) -> 800003 | Q37: =SUM(Q36:Q36) -> 800004 | R37: =SUM(R36:R36) -> 800005 | S37: =SUM(S36:S36) -> 800006 | T37: =SUM(T36:T36) -> 800007 | ... AA37: =SUM(AA36:AA36) -> 800014
E38: C1 | F38: Colaboración entre empresas locales de diversos sectores económicos fortalecida | M38: =+M39 -> 835000 | N38: =+N39 -> 835000 | O38: =+O39 -> 835000 | P38: =+P39 -> 835000 | Q38: =+Q39 -> 835000 | R38: =+R39 -> 835000 | S38: =+S39 -> 835000 | T38: =+T39 -> 835000 | ... AA38: =+AA39 -> 835000
F39: Fomento a la colaboración entre empresas locales de diversos sectores económicos | M39: =+M42 -> 835000 | N39: =+N42 -> 835000 | O39: =+O42 -> 835000 | P39: =+P42 -> 835000 | Q39: =+Q42 -> 835000 | R39: =+R42 -> 835000 | S39: =+S42 -> 835000 | T39: =+T42 -> 835000 | ... AA39: =+AA42 -> 835000
G40: 1126151100 | H40: 31120M15P030000 | I40: 132 | J40: P00030601 | K40: 3390 | L40: SERVICIOS PROFESIONALES CIENTIFICOS TECNICOS INTEGRALES | M40: 800000 | N40: 800000 | O40: 800000 | P40: 800000 | Q40: 800000 | R40: 800000 | S40: 800000 | T40: 800000 | U40: 800000 | V40: 800000 | W40: 800000 | X40: 800000 | Y40: 800000 | Z40: 800000 | AA40: 800000
G41: 1126151100 | H41: 31120M15P030000 | I41: 132 | J41: P00030601 | K41: 3830 | L41: CONGRESOS Y CONVENCIONES | M41: 35000 | N41: 35000 | O41: 35000 | P41: 35000 | Q41: 35000 | R41: 35000 | S41: 35000 | T41: 35000 | U41: 35000 | V41: 35000 | W41: 35000 | X41: 35000 | Y41: 35000 | Z41: 35000 | AA41: 35000
H42: IMPORTE TOTAL POR SERVICIOS GENERALES | M42: =SUM(M40:M41) -> 835000 | N42: =SUM(N40:N41) -> 835000 | O42: =SUM(O40:O41) -> 835000 | P42: =SUM(P40:P41) -> 835000 | Q42: =SUM(Q40:Q41) -> 835000 | R42: =SUM(R40:R41) -> 835000 | S42: =SUM(S40:S41) -> 835000 | T42: =SUM(T40:T41) -> 835000 | ... AA42: =SUM(AA40:AA41) -> 835000
E43: C1 | F43: Igualdad de acceso garantizada | M43: =+M44 -> 1200000 | N43: =+N44 -> 1200001 | O43: =+O44 -> 1200002 | P43: =+P44 -> 1200003 | Q43: =+Q44 -> 1200004 | R43: =+R44 -> 1200005 | S43: =+S44 -> 1200006 | T43: =+T44 -> 1200007 | ... AA43: =+AA44 -> 1200014
F44: Manual de accesibilidad desarrollado | M44: =+M46 -> 1200000 | N44: =+N46 -> 1200001 | O44: =+O46 -> 1200002 | P44: =+P46 -> 1200003 | Q44: =+Q46 -> 1200004 | R44: =+R46 -> 1200005 | S44: =+S46 -> 1200006 | T44: =+T46 -> 1200007 | ... AA44: =+AA46 -> 1200014
...
