Workbook
Name ENTE_PUBLICO: '[1]Info General'!$C$6

Sheet Formato 1
A1: Formato 1 Estado de Situación Financiera Detallado - LDF
A2: INSTITUTO MUNICIPAL DE PLANEACION DE IRAPUATO GUANAJUATO
A3: Estado de Situación Financiera Detallado - LDF
A4: Al 31 de diciembre de 2025 y al 31 de marzo de 2026
A5: (PESOS)
A6: Concepto | B6: 2026 | C6: 31 de diciembre de 2025 | D6: Concepto | E6: =B6 -> 2026 | F6: =C6 -> 31 de diciembre de 2025
A7: ACTIVO | D7: PASIVO
A8: Activo Circulante | D8: Pasivo Circulante
A9: a. Efectivo y Equivalentes (a=a1+a2+a3+a4+a5+a6+a7) | B9: =SUM(B10:B16) -> 12486054 | C9: =SUM(C10:C16) -> 10023905 | D9: a. Cuentas por Pagar a Corto Plazo (a=a1+a2+a3+a4+a5+a6+a7+a8+a9) | E9: =SUM(E10:E18) -> 241408.45 | F9: =SUM(F10:F18) -> 1794028.9
A10: a1) Efectivo | B10: 0 | C10: 0 | D10: a1) Servicios Personales por Pagar a Corto Plazo | E10: 0 | F10: 0
A11: a2) Bancos/Tesorería | B11: 12486054 | C11: 10023905 | D11: a2) Proveedores por Pagar a Corto Plazo | E11: 4999.69 | F11: 1272891.2
A12: a3) Bancos/Dependencias y Otros | B12: 0 | C12: 0 | D12: a3) Contratistas por Obras Públicas por Pagar a Corto Plazo | E12: 0 | F12: 0
A13: a4) Inversiones Temporales (Hasta 3 meses) | B13: 0 | C13: 0 | D13: a4) Participaciones y Aportaciones por Pagar a Corto Plazo | E13: 0 | F13: 0
A14: a5) Fondos con Afectación Específica | B14: 0 | C14: 0 | D14: a5) Transferencias Otorgadas por Pagar a Corto Plazo | E14: 0 | F14: 0
A15: a6) Depósitos de Fondos de Terceros en Garantía y/o Administración | B15: 0 | C15: 0 | D15: a6) Intereses, Comisiones y Otros Gastos de la Deuda Pública por Pagar a Corto Plazo | E15: 0 | F15: 0
A16: a7) Otros Efectivos y Equivalentes | B16: 0 | C16: 0 | D16: a7) Retenciones y Contribuciones por Pagar a Corto Plazo | E16: 236382.99 | F16: 510841.93
A17: b. Derechos a Recibir Efectivo o Equivalentes (b=b1+b2+b3+b4+b5+b6+b7) | B17: =SUM(B18:B24) -> 46558.52 | C17: =SUM(C18:C24) -> 45058.52 | D17: a8) Devoluciones de la Ley de Ingresos por Pagar a Corto Plazo | E17: 0 | F17: 0
A18: b1) Inversiones Financieras de Corto Plazo | B18: 0 | C18: 0 | D18: a9) Otras Cuentas por Pagar a Corto Plazo | E18: 25.77 | F18: 10295.77
A19: b2) Cuentas por Cobrar a Corto Plazo | B19: 44210 | C19: 44210 | D19: b. Documentos por Pagar a Corto Plazo (b=b1+b2+b3) | E19: =SUM(E20:E22) -> 0 | F19: =SUM(F20:F22) -> 0
A20: b3) Deudores Diversos por Cobrar a Corto Plazo | B20: 748 | C20: 748 | D20: b1) Documentos Comerciales por Pagar a Corto Plazo | E20: 0 | F20: 0
A21: b4) Ingresos por Recuperar a Corto Plazo | B21: 0 | C21: 0 | D21: b2) Documentos con Contratistas por Obras Públicas por Pagar a Corto Plazo | E21: 0 | F21: 0
A22: b5) Deudores por Anticipos de la Tesorería a Corto Plazo | B22: 1600 | C22: 100 | D22: b3) Otros Documentos por Pagar a Corto Plazo | E22: 0 | F22: 0
A23: b6) Préstamos Otorgados a Corto Plazo | B23: 0 | C23: 0 | D23: c. Porción a Corto Plazo de la Deuda Pública a Largo Plazo (c=c1+c2) | E23: =E24+E25 -> 0 | F23: =F24+F25 -> 0
A24: b7) Otros Derechos a Recibir Efectivo o Equivalentes a Corto Plazo | B24: 0.52 | C24: 0.52 | D24: c1) Porción a Corto Plazo de la Deuda Pública | E24: 0 | F24: 0
A25: c. Derechos a Recibir Bienes o Servicios (c=c1+c2+c3+c4+c5) | B25: =SUM(B26:B30) -> 198894 | C25: =SUM(C26:C30) -> 198534 | D25: c2) Porción a Corto Plazo de Arrendamiento Financiero | E25: 0 | F25: 0
A26: c1) Anticipo a Proveedores por Adquisición de Bienes y Prestación de Servicios a Corto Plazo | B26: 198534 | C26: 198534 | D26: d. Títulos y Valores a Corto Plazo | E26: 0 | F26: 0
A27: c2) Anticipo a Proveedores por Adquisición de Bienes Inmuebles y Muebles a Corto Plazo | B27: 0 | C27: 0 | D27: e. Pasivos Diferidos a Corto Plazo (e=e1+e2+e3) | E27: =SUM(E28:E30) -> 0 | F27: =SUM(F28:F30) -> 0
A28: c3) Anticipo a Proveedores por Adquisición de Bienes Intangibles a Corto Plazo | B28: 360 | C28: 0 | D28: e1) Ingresos Cobrados por Adelantado a Corto Plazo | E28: 0 | F28: 0
A29: c4) Anticipo a Contratistas por Obras Públicas a Corto Plazo | B29: 0 | C29: 0 | D29: e2) Intereses Cobrados por Adelantado a Corto Plazo | E29: 0 | F29: 0
A30: c5) Otros Derechos a Recibir Bienes o Servicios a Corto Plazo | B30: 0 | C30: 0 | D30: e3) Otros Pasivos Diferidos a Corto Plazo | E30: 0 | F30: 0
A31: d. Inventarios (d=d1+d2+d3+d4+d5) | B31: =SUM(B32:B36) -> 0 | C31: =SUM(C32:C36) -> 0 | D31: f. Fondos y Bienes de Terceros en Garantía y/o Administración a Corto Plazo (f=f1+f2+f3+f4+f5+f6) | E31: =SUM(E32:E37) -> 0 | F31: =SUM(F32:F37) -> 0
A32: d1) Inventario de Mercancías para Venta | B32: 0 | C32: 0 | D32: f1) Fondos en Garantía a Corto Plazo | E32: 0 | F32: 0
A33: d2) Inventario de Mercancías Terminadas | B33: 0 | C33: 0 | D33: f2) Fondos en Administración a Corto Plazo | E33: 0 | F33: 0
A34: d3) Inventario de Mercancías en Proceso de Elaboración | B34: 0 | C34: 0 | D34: f3) Fondos Contingentes a Corto Plazo | E34: 0 | F34: 0
A35: d4) Inventario de Materias Primas, Materiales y Suministros para Producción | B35: 0 | C35: 0 | D35: f4) Fondos de Fideicomisos, Mandatos y Contratos Análogos a Corto Plazo | E35: 0 | F35: 0
A36: d5) Bienes en Tránsito | B36: 0 | C36: 0 | D36: f5) Otros Fondos de Terceros en Garantía y/o Administración a Corto Plazo | E36: 0 | F36: 0
A37: e. Almacenes | B37: 0 | C37: 0 | D37: f6) Valores y Bienes en Garantía a Corto Plazo | E37: 0 | F37: 0
A38: f. Estimación por Pérdida o Deterioro de Activos Circulantes (f=f1+f2) | B38: =SUM(B39:B40) -> 0 | C38: =SUM(C39:C40) -> 0 | D38: g. Provisiones a Corto Plazo (g=g1+g2+g3) | E38: =SUM(E39:E41) -> 208089.09 | F38: =SUM(F39:F41) -> 0
A39: f1) Estimaciones para Cuentas Incobrables por Derechos a Recibir Efectivo o Equivalentes | B39: 0 | C39: 0 | D39: g1) Provisión para Demandas y Juicios a Corto Plazo | E39: 0 | F39: 0
A40: f2) Estimación por Deterioro de Inventarios | B40: 0 | C40: 0 | D40: g2) Provisión para Contingencias a Corto Plazo | E40: 0 | F40: 0
...

Sheet Formato 2
A1: Formato 2 Informe Analítico de la Deuda Pública y Otros Pasivos - LDF
A2: ='Formato 1'!A2 -> INSTITUTO MUNICIPAL DE PLANEACION DE IRAPUATO GUANAJUATO
A3: Informe Analítico de la Deuda Pública y Otros Pasivos - LDF
A4: Del 1 de enero al 31 de marzo de 2026
A5: (PESOS)
A6: Denominación de la Deuda Pública y Otros Pasivos | B6: ='Formato 1'!C6 -> 31 de diciembre de 2025 | C6: Disposiciones del Periodo | D6: Amortizaciones del Periodo | E6: Revaluaciones, Reclasificaciones y Otros Ajustes | F6: Saldo Final del Periodo | G6: Pago de Intereses del Periodo | H6: Pago de Comisiones y demás costos asociados durante el Periodo
A8: 1. Deuda Pública (1=A+B) | B8: 0 | C8: 0 | D8: 0 | E8: 0 | F8: 0 | G8: 0 | H8: 0
A9: A. Corto Plazo (A=a1+a2+a3) | B9: 0 | C9: 0 | D9: 0 | E9: 0 | F9: 0 | G9: 0 | H9: 0
A10: a1) Instituciones de Crédito | B10: 0 | C10: 0 | D10: 0 | E10: 0 | F10: 0 | G10: 0 | H10: 0
A11: a2) Títulos y Valores | B11: 0 | C11: 0 | D11: 0 | E11: 0 | F11: 0 | G11: 0 | H11: 0
A12: a3) Arrendamientos Financieros | B12: 0 | C12: 0 | D12: 0 | E12: 0 | F12: 0 | G12: 0 | H12: 0
A13: B. Largo Plazo (B=b1+b2+b3) | B13: 0 | C13: 0 | D13: 0 | E13: 0 | F13: 0 | G13: 0 | H13: 0
A14: b1) Instituciones de Crédito | B14: 0 | C14: 0 | D14: 0 | E14: 0 | F14: 0 | G14: 0 | H14: 0
A15: b2) Títulos y Valores | B15: 0 | C15: 0 | D15: 0 | E15: 0 | F15: 0 | G15: 0 | H15: 0
A16: b3) Arrendamientos Financieros | B16: 0 | C16: 0 | D16: 0 | E16: 0 | F16: 0 | G16: 0 | H16: 0
A18: 2. Otros Pasivos | B18: 1794028.9 | C18: 0 | D18: 0 | E18: 0 | F18: 449497.54
A20: 3. Total de la Deuda Pública y Otros Pasivos (3=1+2) | B20: 1794028.9 | C20: 0 | D20: 0 | E20: 0 | F20: 449497.54 | G20: 0 | H20: 0
A22: 4. Deuda Contingente 1 (Informativo) | B22: 0 | C22: 0 | D22: 0 | E22: 0 | F22: 0 | G22: 0 | H22: 0
A23: A. Deuda Contingente 1 | B23: 0 | C23: 0 | D23: 0 | E23: 0 | F23: 0 | G23: 0 | H23: 0
A24: B. Deuda Contingente 2 | B24: 0 | C24: 0 | D24: 0 | E24: 0 | F24: 0 | G24: 0 | H24: 0
A25: C. Deuda Contingente XX | B25: 0 | C25: 0 | D25: 0 | E25: 0 | F25: 0 | G25: 0 | H25: 0
A27: 5. Valor de Instrumentos Bono Cupón Cero 2 (Informativo) | B27: 0 | C27: 0 | D27: 0 | E27: 0 | F27: 0 | G27: 0 | H27: 0
A28: A. Instrumento Bono Cupón Cero 1 | B28: 0 | C28: 0 | D28: 0 | E28: 0 | F28: 0 | G28: 0 | H28: 0
A29: B. Instrumento Bono Cupón Cero 2 | B29: 0 | C29: 0 | D29: 0 | E29: 0 | F29: 0 | G29: 0 | H29: 0
A30: C. Instrumento Bono Cupón Cero XX | B30: 0 | C30: 0 | D30: 0 | E30: 0 | F30: 0 | G30: 0 | H30: 0
A31: *
A33: 1 Se refiere a cualquier Financiamiento sin fuente o garantía de pago definida, que sea asumida de manera solidaria o subsidiaria por las Entidades Federativas con sus Municipios, organismos descentralizados y empresas de participación estatal mayoritaria y fideicomisos, locales o municipales, y por los Municipios con sus respectivos organismos descentralizados y empresas de participación municipal mayoritaria. 2 Se refiere al valor del Bono Cupón Cero que respalda el pago de los créditos asociados al mismo (Activo).
A39: Obligaciones a Corto Plazo (k) | B39: Monto Contratado (l) | C39: Plazo Pactado (m) | D39: Tasa de Interés (n) | E39: Comisiones y Costos Relacionados (o) | F39: Tasa Efectiva (p)
A41: 6. Obligaciones a Corto Plazo (Informativo) | B41: =SUM(B42:B44) -> 0 | C41: =SUM(C42:C44) -> 0 | D41: =SUM(D42:D44) -> 0 | E41: =SUM(E42:E44) -> 0 | F41: =SUM(F42:F44) -> 0
A42: A. Crédito 1 | B42: 0 | C42: 0 | D42: 0 | E42: 0 | F42: 0
A43: B. Crédito 2 | B43: 0 | C43: 0 | D43: 0 | E43: 0 | F43: 0
A44: C. Crédito XX | B44: 0 | C44: 0 | D44: 0 | E44: 0 | F44: 0
A45: *

Sheet Formato 3
A1: Formato 3 Informe Analítico de Obligaciones Diferentes de Financiamientos - LDF
A2: ='Formato 1'!A2 -> INSTITUTO MUNICIPAL DE PLANEACION DE IRAPUATO GUANAJUATO
A3: Informe Analítico de Obligaciones Diferentes de Financiamientos – LDF
A4: ='Formato 2'!A4 -> Del 1 de enero al 31 de marzo de 2026
A5: (PESOS)
A6: Denominación de las Obligaciones Diferentes de Financiamiento | B6: Fecha del Contrato | C6: Fecha de inicio de operación del proyecto | D6: Fecha de vencimiento | E6: Monto de la inversión pactado | F6: Plazo pactado | G6: Monto promedio mensual del pago de la contraprestación | H6: Monto promedio mensual del pago de la contraprestación correspondiente al pago de inversión | I6: Monto pagado de la inversión al XX de XXXX de 20XN_x000D_ | J6: Monto pagado de la inversión actualizado al XX de XXXX de 20XN | K6: Saldo pendiente por pagar de la inversión al XX de XXXX de 20XN
A8: A. Asociaciones Público Privadas (APP’s) (A=a+b+c+d) | E8: 0 | G8: 0 | H8: 0 | I8: 0 | J8: 0 | K8: 0
A9: a) APP 1 | E9: 0 | G9: 0 | H9: 0 | I9: 0 | J9: 0 | K9: 0
A10: b) APP 2 | E10: 0 | G10: 0 | H10: 0 | I10: 0 | J10: 0 | K10: 0
A11: c) APP 3 | E11: 0 | G11: 0 | H11: 0 | I11: 0 | J11: 0 | K11: 0
A12: d) APP XX | E12: 0 | G12: 0 | H12: 0 | I12: 0 | J12: 0 | K12: 0
A13: *
A14: B. Otros Instrumentos (B=a+b+c+d) | E14: 0 | G14: 0 | H14: 0 | I14: 0 | J14: 0 | K14: 0
A15: a) Otro Instrumento 1 | E15: 0 | G15: 0 | H15: 0 | I15: 0 | J15: 0 | K15: 0
A16: b) Otro Instrumento 2 | E16: 0 | G16: 0 | H16: 0 | I16: 0 | J16: 0 | K16: 0
A17: c) Otro Instrumento 3 | E17: 0 | G17: 0 | H17: 0 | I17: 0 | J17: 0 | K17: 0
A18: d) Otro Instrumento XX | E18: 0 | G18: 0 | H18: 0 | I18: 0 | J18: 0 | K18: 0
A19: *
A20: C. Total de Obligaciones Diferentes de Financiamiento (C=A+B) | E20: 0 | G20: 0 | H20: 0 | I20: 0 | J20: 0 | K20: 0

Sheet Formato 4
A1: Formato 4 Balance Presupuestario - LDF
A2: ='Formato 1'!A2 -> INSTITUTO MUNICIPAL DE PLANEACION DE IRAPUATO GUANAJUATO
A3: Balance Presupuestario - LDF
A4: ='Formato 3'!A4 -> Del 1 de enero al 31 de marzo de 2026
A5: (PESOS)
A7: Concepto | B7: Estimado/ Aprobado | C7: Devengado | D7: Recaudado/ Pagado
A8: A. Ingresos Totales (A = A1+A2+A3) | B8: 29474579 | C8: =+C9 -> 8918820 | D8: =+D9 -> 8918820
A9: A1. Ingresos de Libre Disposición | B9: 29474579 | C9: =+'Formato 5'!E34 -> 8918820 | D9: =+'Formato 5'!F34 -> 8918820
A10: A2. Transferencias Federales Etiquetadas | B10: 0 | C10: 0 | D10: 0
A11: A3. Financiamiento Neto | B11: 0 | C11: 0 | D11: 0
A13: B. Egresos Presupuestarios1 (B = B1+B2) | B13: 29474579 | C13: =+C14 -> 5110280 | D13: =+D14 -> 5110280
A14: B1. Gasto No Etiquetado (sin incluir Amortización de la Deuda Pública) | B14: 29474579 | C14: =+'Formato 6 a)'!E9 -> 5110280 | D14: =+'Formato 6 a)'!F9 -> 5110280
A15: B2. Gasto Etiquetado (sin incluir Amortización de la Deuda Pública) | B15: 0 | C15: 0 | D15: 0
A17: C. Remanentes del Ejercicio Anterior ( C = C1 + C2 ) | B17: 0 | C17: =+C18+C19 -> 2626985 | D17: =+D18+D19 -> 2626985
A18: C1. Remanentes de Ingresos de Libre Disposición aplicados en el periodo | B18: 0 | C18: 2626985 | D18: 2626985
A19: C2. Remanentes de Transferencias Federales Etiquetadas aplicados en el periodo | B19: 0 | C19: 0 | D19: 0
A21: I. Balance Presupuestario (I = A – B + C) | B21: 0 | C21: =+C8-C13+C17 -> 6435525.1 | D21: =+D8-D13+D17 -> 6435525.1
A23: II. Balance Presupuestario sin Financiamiento Neto (II = I - A3) | B23: 0 | C23: =+C21-C11 -> 6435525.1 | D23: =+D21-D11 -> 6435525.1
A25: III. Balance Presupuestario sin Financiamiento Neto y sin Remanentes del Ejercicio Anterior (III= II - C) | B25: 0 | C25: =+C23-C17 -> 3808540.1 | D25: =+D23-D17 -> 3808540.1
A28: Concepto | B28: Aprobado | C28: Devengado | D28: Pagado
A29: E. Intereses, Comisiones y Gastos de la Deuda (E = E1+E2) | B29: 0 | C29: 0 | D29: 0
A30: E1. Intereses, Comisiones y Gastos de la Deuda con Gasto No Etiquetado | B30: 0 | C30: 0 | D30: 0
A31: E2. Intereses, Comisiones y Gastos de la Deuda con Gasto Etiquetado | B31: 0 | C31: 0 | D31: 0
A33: IV. Balance Primario (IV = III + E) | B33: 0 | C33: =+C25+C29 -> 3808540.1 | D33: 3808540.1
A36: Concepto | B36: Estimado/ Aprobado | C36: Devengado | D36: Recaudado/ Pagado
A37: F. Financiamiento (F = F1 + F2) | B37: 0 | C37: 0 | D37: 0
A38: F1. Financiamiento con Fuente de Pago de Ingresos de Libre Disposición | B38: 0 | C38: 0 | D38: 0
A39: F2. Financiamiento con Fuente de Pago de Transferencias Federales Etiquetadas | B39: 0 | C39: 0 | D39: 0
A40: G. Amortización de la Deuda (G = G1 + G2) | B40: 0 | C40: 0 | D40: 0
A41: G1. Amortización de la Deuda Pública con Gasto No Etiquetado | B41: 0 | C41: 0 | D41: 0
A42: G2. Amortización de la Deuda Pública con Gasto Etiquetado | B42: 0 | C42: 0 | D42: 0
A44: A3. Financiamiento Neto (A3 = F – G ) | B44: 0 | C44: 0 | D44: 0
A47: Concepto | B47: Estimado/ Aprobado | C47: Devengado | D47: Recaudado/ Pagado
A48: A1. Ingresos de Libre Disposición | B48: 0 | C48: 0 | D48: 0
A49: A3.1 Financiamiento Neto con Fuente de Pago de Ingresos de Libre Disposición (A3.1 = F1 – G1) | B49: 0 | C49: 0 | D49: 0
A50: F1. Financiamiento con Fuente de Pago de Ingresos de Libre Disposición | B50: 0 | C50: 0 | D50: 0
A51: G1. Amortización de la Deuda Pública con Gasto No Etiquetado | B51: 0 | C51: 0 | D51: 0
A53: B1. Gasto No Etiquetado (sin incluir Amortización de la Deuda Pública) | B53: 0 | C53: 0 | D53: 0
A55: C1. Remanentes de Ingresos de Libre Disposición aplicados en el periodo | B55: 0 | C55: 0 | D55: 0
A57: V. Balance Presupuestario de Recursos Disponibles (V = A1 + A3.1 – B 1 + C1) | B57: 0 | C57: 0 | D57: 0
...

Sheet Formato 5
A1: Formato 5 Estado Analítico de Ingresos Detallado - LDF
A2: ='Formato 1'!A2 -> INSTITUTO MUNICIPAL DE PLANEACION DE IRAPUATO GUANAJUATO
A3: Estado Analítico de Ingresos Detallado - LDF
A4: ='Formato 3'!A4 -> Del 1 de enero al 31 de marzo de 2026
A5: (PESOS)
A6: Concepto | B6: Ingreso | G6: Diferencia
B7: Estimado | C7: Ampliaciones/ (Reducciones) | D7: Modificado | E7: Devengado | F7: Recaudado
A8: Ingresos de Libre Disposición
A9: A. Impuestos | B9: 0 | C9: 0 | D9: 0 | E9: 0 | F9: 0 | G9: 0
A10: B. Cuotas y Aportaciones de Seguridad Social | B10: 0 | C10: 0 | D10: 0 | E10: 0 | F10: 0 | G10: 0
A11: C. Contribuciones de Mejoras | B11: 0 | C11: 0 | D11: 0 | E11: 0 | F11: 0 | G11: 0
A12: D. Derechos | B12: 0 | C12: 0 | D12: 0 | E12: 0 | F12: 0 | G12: 0
A13: E. Productos | B13: 0 | C13: 0 | D13: 0 | E13: 0 | F13: 0 | G13: 0
A14: F. Aprovechamientos | B14: 0 | C14: 0 | D14: 0 | E14: 0 | F14: 0 | G14: 0
A15: G. Ingresos por Venta de Bienes y Prestación de Servicios | B15: 0 | C15: 0 | D15: 0 | E15: 0 | F15: 0 | G15: 0
A16: H. Participaciones (H=h1+h2+h3+h4+h5+h6+h7+h8+h9+h10+h11) | B16: 0 | C16: 0 | D16: 0 | E16: 0 | F16: 0 | G16: 0
A17: h1) Fondo General de Participaciones | B17: 0 | C17: 0 | D17: 0 | E17: 0 | F17: 0 | G17: 0
A18: h2) Fondo de Fomento Municipal | B18: 0 | C18: 0 | D18: 0 | E18: 0 | F18: 0 | G18: 0
A19: h3) Fondo de Fiscalización y Recaudación | B19: 0 | C19: 0 | D19: 0 | E19: 0 | F19: 0 | G19: 0
A20: h4) Fondo de Compensación | B20: 0 | C20: 0 | D20: 0 | E20: 0 | F20: 0 | G20: 0
... A33: i5) Otros Incentivos Económicos | B33: 0 | C33: 0 | D33: 0 | E33: 0 | F33: 0 | G33: 0
A34: J. Transferencias y Asignaciones | B34: 29474579 | C34: 5528808.6 | D34: =B34+C34 -> 35003388 | E34: 8918820 | F34: 8918820 | G34: =F34-B34 -> -20555759
A35: K. Convenios | B35: =B36 -> 0 | C35: =C36 -> 0 | D35: =B35+C35 -> 0 | E35: =E36 -> 0 | F35: =F36 -> 0 | G35: =F35-B35 -> 0
A36: k1) Otros Convenios y Subsidios | B36: 0 | C36: 0 | D36: =B36+C36 -> 0 | E36: 0 | F36: 0 | G36: =F36-B36 -> 0
A37: L. Otros Ingresos de Libre Disposición (L=l1+l2) | B37: =B38+B39 -> 0 | C37: =C38+C39 -> 0 | D37: =D38+D39 -> 0 | E37: =E38+E39 -> 0 | F37: =F38+F39 -> 0 | G37: =F37-B37 -> 0
A38: l1) Participaciones en Ingresos Locales | B38: 0 | C38: 0 | D38: =B38+C38 -> 0 | E38: 0 | F38: 0 | G38: =F38-B38 -> 0
A39: l2) Otros Ingresos de Libre Disposición | B39: 0 | C39: 0 | D39: =B39+C39 -> 0 | E39: 0 | F39: 0 | G39: =F39-B39 -> 0
A41: I. Total de Ingresos de Libre Disposición (I=A+B+C+D+E+F+G+H+I+J+K+L) | B41: =B9+B10+B11+B12+B13+B14+B15+B16+B28++B34+B35+B37 -> 29474579 | C41: =C9+C10+C11+C12+C13+C14+C15+C16+C28++C34+C35+C37 -> 5528808.6 | D41: =D9+D10+D11+D12+D13+D14+D15+D16+D28++D34+D35+D37 -> 35003388 | E41: =E9+E10+E11+E12+E13+E14+E15+E16+E28++E34+E35+E37 -> 8918820 | F41: =F9+F10+F11+F12+F13+F14+F15+F16+F28++F34+F35+F37 -> 8918820 | G41: =G9+G10+G11+G12+G13+G14+G15+G16+G28++G34+G35+G37 -> -20555759
A42: Ingresos Excedentes de Ingresos de Libre Disposición | G42: 0
A44: Transferencias Federales Etiquetadas
A45: A. Aportaciones (A=a1+a2+a3+a4+a5+a6+a7+a8) | B45: 0 | C45: 0 | D45: 0 | E45: 0 | F45: 0 | G45: 0
A46: a1) Fondo de Aportaciones para la Nómina Educativa y Gasto Operativo | B46: 0 | C46: 0 | D46: 0 | E46: 0 | F46: 0 | G46: 0
A47: a2) Fondo de Aportaciones para los Servicios de Salud | B47: 0 | C47: 0 | D47: 0 | E47: 0 | F47: 0 | G47: 0
A48: a3) Fondo de Aportaciones para la Infraestructura Social | B48: 0 | C48: 0 | D48: 0 | E48: 0 | F48: 0 | G48: 0
A49: a4) Fondo de Aportaciones para el Fortalecimiento de los Municipios y de las Demarcaciones Territoriales del Distrito Federal | B49: 0 | C49: 0 | D49: 0 | E49: 0 | F49: 0 | G49: 0
A50: a5) Fondo de Aportaciones Múltiples | B50: 0 | C50: 0 | D50: 0 | E50: 0 | F50: 0 | G50: 0
A51: a6) Fondo de Aportaciones para la Educación Tecnológica y de Adultos | B51: 0 | C51: 0 | D51: 0 | E51: 0 | F51: 0 | G51: 0
A52: a7) Fondo de Aportaciones para la Seguridad Pública de los Estados y del Distrito Federal | B52: 0 | C52: 0 | D52: 0 | E52: 0 | F52: 0 | G52: 0
A53: a8) Fondo de Aportaciones para el Fortalecimiento de las Entidades Federativas | B53: 0 | C53: 0 | D53: 0 | E53: 0 | F53: 0 | G53: 0
A54: B. Convenios (B=b1+b2+b3+b4) | B54: 0 | C54: 0 | D54: 0 | E54: 0 | F54: 0 | G54: 0
...

Sheet Formato 6 a)
A1: Formato 6 a) Estado Analítico del Ejercicio del Presupuesto de Egresos Detallado - LDF (Clasificación por Objeto del Gasto)
A2: ='Formato 1'!A2 -> INSTITUTO MUNICIPAL DE PLANEACION DE IRAPUATO GUANAJUATO
A3: Estado Analítico del Ejercicio del Presupuesto de Egresos Detallado - LDF
A4: Clasificación por Objeto del Gasto (Capítulo y Concepto)
A5: ='Formato 3'!A4 -> Del 1 de enero al 31 de marzo de 2026
A6: (PESOS)
A7: Concepto | B7: Egresos | G7: Subejercicio
B8: Aprobado | C8: Ampliaciones/ (Reducciones) | D8: Modificado | E8: Devengado | F8: Pagado
A9: I. Gasto No Etiquetado (I=A+B+C+D+E+F+G+H+I) | B9: =B10+B18+B189+B28+B38+B48+B58+B62+B71+B75 -> 29474579 | C9: =C10+C18+C189+C28+C38+C48+C58+C62+C71+C75 -> 5528808.6 | D9: =D10+D18+D189+D28+D38+D48+D58+D62+D71+D75 -> 35003388 | E9: =E10+E18+E189+E28+E38+E48+E58+E62+E71+E75 -> 5110280 | F9: =F10+F18+F189+F28+F38+F48+F58+F62+F71+F75 -> 5110280 | G9: =G10+G18+G189+G28+G38+G48+G58+G62+G71+G75 -> 29893108
A10: A. Servicios Personales (A=a1+a2+a3+a4+a5+a6+a7) | B10: =SUM(B11:B17) -> 11077138 | C10: =SUM(C11:C17) -> 0 | D10: =SUM(D11:D17) -> 11077138 | E10: =SUM(E11:E17) -> 1940049.2 | F10: =SUM(F11:F17) -> 1940049.2 | G10: =SUM(G11:G17) -> 9137088.6
A11: a1) Remuneraciones al Personal de Carácter Permanente | B11: 5330312.8 | C11: 0 | D11: =B11+C11 -> 5330312.8 | E11: 1153223.8 | F11: 1153223.8 | G11: =D11-E11 -> 4177089.1
A12: a2) Remuneraciones al Personal de Carácter Transitorio | B12: 0 | C12: 0 | D12: =B12+C12 -> 0 | E12: 0 | F12: 0 | G12: =D12-E12 -> 0
A13: a3) Remuneraciones Adicionales y Especiales | B13: 872464.5 | C13: 0 | D13: =B13+C13 -> 872464.5 | E13: 208089.09 | F13: 208089.09 | G13: =D13-E13 -> 664375.41
A14: a4) Seguridad Social | B14: 1631761.6 | C14: 0 | D14: =B14+C14 -> 1631761.6 | E14: 236523.08 | F14: 236523.08 | G14: =D14-E14 -> 1395238.5
A15: a5) Otras Prestaciones Sociales y Económicas | B15: 3242598.8 | C15: 0 | D15: =B15+C15 -> 3242598.8 | E15: 342213.3 | F15: 342213.3 | G15: =D15-E15 -> 2900385.5
A16: a6) Previsiones | B16: 0 | C16: 0 | D16: =B16+C16 -> 0 | E16: 0 | F16: 0 | G16: =D16-E16 -> 0
A17: a7) Pago de Estímulos a Servidores Públicos | B17: 0 | C17: 0 | D17: =B17+C17 -> 0 | E17: 0 | F17: 0 | G17: =D17-E17 -> 0
A18: B. Materiales y Suministros (B=b1+b2+b3+b4+b5+b6+b7+b8+b9) | B18: =SUM(B19:B27) -> 338521 | C18: =SUM(C19:C27) -> 0 | D18: =SUM(D19:D27) -> 338521 | E18: =SUM(E19:E27) -> 57881.11 | F18: =SUM(F19:F27) -> 57881.11 | G18: =SUM(G19:G27) -> 280639.89
A19: b1) Materiales de Administración, Emisión de Documentos y Artículos Oficiales | B19: 136800 | C19: 0 | D19: =B19+C19 -> 136800 | E19: 14651.9 | F19: 14651.9 | G19: =D19-E19 -> 122148.1
A20: b2) Alimentos y Utensilios | B20: 85000 | C20: 0 | D20: =B20+C20 -> 85000 | E20: 21891.36 | F20: 21891.36 | G20: =D20-E20 -> 63108.64
A21: b3) Materias Primas y Materiales de Producción y Comercialización | B21: 0 | C21: 0 | D21: =B21+C21 -> 0 | E21: 0 | F21: 0 | G21: =D21-E21 -> 0
A22: b4) Materiales y Artículos de Construcción y de Reparación | B22: 0 | C22: 0 | D22: =B22+C22 -> 0 | E22: 0 | F22: 0 | G22: =D22-E22 -> 0
A23: b5) Productos Químicos, Farmacéuticos y de Laboratorio | B23: 3000 | C23: 0 | D23: =B23+C23 -> 3000 | E23: 0 | F23: 0 | G23: =D23-E23 -> 3000
A24: b6) Combustibles, Lubricantes y Aditivos | B24: 51621 | C24: 0 | D24: =B24+C24 -> 51621 | E24: 14312.85 | F24: 14312.85 | G24: =D24-E24 -> 37308.15
A25: b7) Vestuario, Blancos, Prendas de Protección y Artículos Deportivos | B25: 33600 | C25: 0 | D25: =B25+C25 -> 33600 | E25: 0 | F25: 0 | G25: =D25-E25 -> 33600
A26: b8) Materiales y Suministros Para Seguridad | B26: 0 | C26: 0 | D26: =B26+C26 -> 0 | E26: 0 | F26: 0 | G26: =D26-E26 -> 0
A27: b9) Herramientas, Refacciones y Accesorios Menores | B27: 28500 | C27: 0 | D27: =B27+C27 -> 28500 | E27: 7025 | F27: 7025 | G27: =D27-E27 -> 21475
A28: C. Servicios Generales (C=c1+c2+c3+c4+c5+c6+c7+c8+c9) | B28: =SUM(B29:B37) -> 17993920 | C28: =SUM(C29:C37) -> 5502808.7 | D28: =SUM(D29:D37) -> 23496729 | E28: =SUM(E29:E37) -> 3112349.6 | F28: =SUM(F29:F37) -> 3112349.6 | G28: =SUM(G29:G37) -> 20384380
A29: c1) Servicios Básicos | B29: 484920 | C29: -40000 | D29: =B29+C29 -> 444920 | E29: 64141.41 | F29: 64141.41 | G29: =D29-E29 -> 380778.59
A30: c2) Servicios de Arrendamiento | B30: 500149.24 | C30: -5999.88 | D30: =B30+C30 -> 494149.36 | E30: 102287.34 | F30: 102287.34 | G30: =D30-E30 -> 391862.02
A31: c3) Servicios Profesionales, Científicos, Técnicos y Otros Servicios | B31: 16005155 | C31: 5528808.6 | D31: =B31+C31 -> 21533964 | E31: 2866909 | F31: 2866909 | G31: =D31-E31 -> 18667055
A32: c4) Servicios Financieros, Bancarios y Comerciales | B32: 39630 | C32: 20000 | D32: =B32+C32 -> 59630 | E32: 12170.25 | F32: 12170.25 | G32: =D32-E32 -> 47459.75
A33: c5) Servicios de Instalación, Reparación, Mantenimiento y Conservación | B33: 180000 | C33: 0 | D33: =B33+C33 -> 180000 | E33: 35633.6 | F33: 35633.6 | G33: =D33-E33 -> 144366.4
A34: c6) Servicios de Comunicación Social y Publicidad | B34: 45000 | C34: 0 | D34: =B34+C34 -> 45000 | E34: 0 | F34: 0 | G34: =D34-E34 -> 45000
A35: c7) Servicios de Traslado y Viáticos | B35: 179000 | C35: 0 | D35: =B35+C35 -> 179000 | E35: 1463 | F35: 1463 | G35: =D35-E35 -> 177537
A36: c8) Servicios Oficiales | B36: 251500 | C36: 0 | D36: =B36+C36 -> 251500 | E36: 0 | F36: 0 | G36: =D36-E36 -> 251500
A37: c9) Otros Servicios Generales | B37: 308566 | C37: 0 | D37: =B37+C37 -> 308566 | E37: 29745 | F37: 29745 | G37: =D37-E37 -> 278821
A38: D. Transferencias, Asignaciones, Subsidios y Otras Ayudas (D=d1+d2+d3+d4+d5+d6+d7+d8+d9) | B38: =SUM(B39:B47) -> 0 | C38: =SUM(C39:C47) -> 0 | D38: =SUM(D39:D47) -> 0 | E38: =SUM(E39:E47) -> 0 | F38: =SUM(F39:F47) -> 0 | G38: =SUM(G39:G47) -> 0
A39: d1) Transferencias Internas y Asignaciones al Sector Público | B39: 0 | C39: 0 | D39: =B39+C39 -> 0 | E39: 0 | F39: 0 | G39: =D39-E39 -> 0
A40: d2) Transferencias al Resto del Sector Público | B40: 0 | C40: 0 | D40: =B40+C40 -> 0 | E40: 0 | F40: 0 | G40: =D40-E40 -> 0
...

Sheet Formato 6 b)
A1: Formato 6 b) Estado Analítico del Ejercicio del Presupuesto de Egresos Detallado - LDF (Clasificación Administrativa)
A2: ='Formato 1'!A2 -> INSTITUTO MUNICIPAL DE PLANEACION DE IRAPUATO GUANAJUATO
A3: Estado Analítico del Ejercicio del Presupuesto de Egresos Detallado - LDF
A4: Clasificación Administrativa
A5: ='Formato 3'!A4 -> Del 1 de enero al 31 de marzo de 2026
A6: (PESOS)
A7: Concepto | B7: Egresos | G7: Subejercicio
B8: Aprobado | C8: Ampliaciones/ (Reducciones) | D8: Modificado | E8: Devengado | F8: Pagado
A9: I. Gasto No Etiquetado (I=A+B+C+D+E+F+G+H) | B9: =SUM(B10:B17) -> 29474579 | C9: =SUM(C10:C17) -> 5528808.6 | D9: =SUM(D10:D17) -> 35003388 | E9: =SUM(E10:E17) -> 5110279.9 | F9: =SUM(F10:F17) -> 5110279.9 | G9: =SUM(G10:G17) -> 29893108
A10: 31120M15P010000 IMPLAN IRAPUATO DIRECCION GENERAL | B10: 19409579 | C10: 0 | D10: =B10+C10 -> 19409579 | E10: 2483295 | F10: 2483295 | G10: =D10-E10 -> 16926284
A11: 31120M15P020000 DIRECCION VINCULACION | B11: 2470000 | C11: 0 | D11: =B11+C11 -> 2470000 | E11: 0 | F11: 0 | G11: =D11-E11 -> 2470000
A12: 31120M15P030000 DIRECCION GESTION DE PLANEACION | B12: 5595000 | C12: 5528808.6 | D12: =B12+C12 -> 11123809 | E12: 2626984.9 | F12: 2626984.9 | G12: =D12-E12 -> 8496823.7
A13: 31120M15P040000 DIRECCION DE PROCESOS DE PLANEACION | B13: 1200000 | C13: 0 | D13: =B13+C13 -> 1200000 | E13: 0 | F13: 0 | G13: =D13-E13 -> 1200000
A14: 31120M15P050000 DIRECCION DE GEOSTADISTICA | B14: 800000 | C14: 0 | D14: =B14+C14 -> 800000 | E14: 0 | F14: 0 | G14: =D14-E14 -> 800000
A15: F. Dependencia o Unidad Administrativa 6 | B15: 0 | C15: 0 | D15: 0 | E15: 0 | F15: 0 | G15: 0
A16: G. Dependencia o Unidad Administrativa 7 | B16: 0 | C16: 0 | D16: 0 | E16: 0 | F16: 0 | G16: 0
A17: H. Dependencia o Unidad Administrativa xx | B17: 0 | C17: 0 | D17: 0 | E17: 0 | F17: 0 | G17: 0
A18: *
A19: II. Gasto Etiquetado (II=A+B+C+D+E+F+G+H) | B19: 0 | C19: 0 | D19: 0 | E19: 0 | F19: 0 | G19: 0
A20: A. Dependencia o Unidad Administrativa 1 | B20: 0 | C20: 0 | D20: 0 | E20: 0 | F20: 0 | G20: 0
A21: B. Dependencia o Unidad Administrativa 2 | B21: 0 | C21: 0 | D21: 0 | E21: 0 | F21: 0 | G21: 0
A22: C. Dependencia o Unidad Administrativa 3 | B22: 0 | C22: 0 | D22: 0 | E22: 0 | F22: 0 | G22: 0
A23: D. Dependencia o Unidad Administrativa 4 | B23: 0 | C23: 0 | D23: 0 | E23: 0 | F23: 0 | G23: 0
A24: E. Dependencia o Unidad Administrativa 5 | B24: 0 | C24: 0 | D24: 0 | E24: 0 | F24: 0 | G24: 0
A25: F. Dependencia o Unidad Administrativa 6 | B25: 0 | C25: 0 | D25: 0 | E25: 0 | F25: 0 | G25: 0
A26: G. Dependencia o Unidad Administrativa 7 | B26: 0 | C26: 0 | D26: 0 | E26: 0 | F26: 0 | G26: 0
A27: H. Dependencia o Unidad Administrativa xx | B27: 0 | C27: 0 | D27: 0 | E27: 0 | F27: 0 | G27: 0
A28: *
A29: III. Total de Egresos (III = I + II) | B29: =+B9+B19 -> 29474579 | C29: =+C9+C19 -> 5528808.6 | D29: =+D9+D19 -> 35003388 | E29: =+E9+E19 -> 5110279.9 | F29: =+F9+F19 -> 5110279.9 | G29: =+G9+G19 -> 29893108

Sheet Formato 6 c)
A1: Formato 6 c) Estado Analítico del Ejercicio del Presupuesto de Egresos Detallado -LDF (Clasificación Funcional)
A2: ='Formato 1'!A2 -> INSTITUTO MUNICIPAL DE PLANEACION DE IRAPUATO GUANAJUATO
A3: Estado Analítico del Ejercicio del Presupueso de Egresos Detallado - LDF
A4: Clasificación Funcional (Finalidad y Función)
A5: ='Formato 3'!A4 -> Del 1 de enero al 31 de marzo de 2026
A6: (PESOS)
A7: Concepto | B7: Egresos | G7: Subejercicio
B8: Aprobado | C8: Ampliaciones / (Reducciones) | D8: Modificado | E8: Devengado | F8: Pagado
A9: I. Gasto No Etiquetado (I=A+B+C+D) | B9: =+B10 -> 29474579 | C9: =+C10 -> 5528808.6 | D9: =+D10 -> 35003388 | E9: =+E10 -> 5110279.9 | F9: =+F10 -> 5110279.9 | G9: =+G10 -> 29893108
A10: A. Gobierno (A=a1+a2+a3+a4+a5+a6+a7+a8) | B10: =SUM(B11:B18) -> 29474579 | C10: =SUM(C11:C18) -> 5528808.6 | D10: =SUM(D11:D18) -> 35003388 | E10: =SUM(E11:E18) -> 5110279.9 | F10: =SUM(F11:F18) -> 5110279.9 | G10: =SUM(G11:G18) -> 29893108
A11: a1) Legislación | B11: 0 | C11: 0 | D11: 0 | E11: 0 | F11: 0 | G11: 0
A12: a2) Justicia | B12: 0 | C12: 0 | D12: 0 | E12: 0 | F12: 0 | G12: 0
A13: a3) Coordinación de la Política de Gobierno | B13: =+'Formato 6 b)'!B9 -> 29474579 | C13: =+'Formato 6 b)'!C9 -> 5528808.6 | D13: =+'Formato 6 b)'!D9 -> 35003388 | E13: =+'Formato 6 b)'!E9 -> 5110279.9 | F13: =+'Formato 6 b)'!F9 -> 5110279.9 | G13: =+'Formato 6 b)'!G9 -> 29893108
A14: a4) Relaciones Exteriores | B14: 0 | C14: 0 | D14: 0 | E14: 0 | F14: 0 | G14: 0
A15: a5) Asuntos Financieros y Hacendarios | B15: 0 | C15: 0 | D15: 0 | E15: 0 | F15: 0 | G15: 0
A16: a6) Seguridad Nacional | B16: 0 | C16: 0 | D16: 0 | E16: 0 | F16: 0 | G16: 0
A17: a7) Asuntos de Orden Público y de Seguridad Interior | B17: 0 | C17: 0 | D17: 0 | E17: 0 | F17: 0 | G17: 0
A18: a8) Otros Servicios Generales | B18: 0 | C18: 0 | D18: 0 | E18: 0 | F18: 0 | G18: 0
A19: B. Desarrollo Social (B=b1+b2+b3+b4+b5+b6+b7) | B19: 0 | C19: 0 | D19: 0 | E19: 0 | F19: 0 | G19: 0
A20: b1) Protección Ambiental | B20: 0 | C20: 0 | D20: 0 | E20: 0 | F20: 0 | G20: 0
A21: b2) Vivienda y Servicios a la Comunidad | B21: 0 | C21: 0 | D21: 0 | E21: 0 | F21: 0 | G21: 0
A22: b3) Salud | B22: 0 | C22: 0 | D22: 0 | E22: 0 | F22: 0 | G22: 0
A23: b4) Recreación, Cultura y Otras Manifestaciones Sociales | B23: 0 | C23: 0 | D23: 0 | E23: 0 | F23: 0 | G23: 0
A24: b5) Educación | B24: 0 | C24: 0 | D24: 0 | E24: 0 | F24: 0 | G24: 0
A25: b6) Protección Social | B25: 0 | C25: 0 | D25: 0 | E25: 0 | F25: 0 | G25: 0
... A75: d4) Adeudos de Ejercicios Fiscales Anteriores | B75: 0 | C75: 0 | D75: 0 | E75: 0 | F75: 0 | G75: 0
A77: III. Total de Egresos (III = I + II) | B77: =+B9+B43 -> 29474579 | C77: =+C9+C43 -> 5528808.6 | D77: =+D9+D43 -> 35003388 | E77: =+E9+E43 -> 5110279.9 | F77: =+F9+F43 -> 5110279.9 | G77: =+G9+G43 -> 29893108

Sheet Formato 6 d)
A1: Formato 6 d) Estado Analítico del Ejercicio del Presupuesto de Egresos Detallado - LDF (Clasificación de Servicios Personales por Categoría)
A2: ='Formato 1'!A2 -> INSTITUTO MUNICIPAL DE PLANEACION DE IRAPUATO GUANAJUATO
A3: Estado Analítico del Ejercicio del Presupuesto de Egresos Detallado - LDF
A4: Clasificación de Servicios Personales por Categoría
A5: ='Formato 3'!A4 -> Del 1 de enero al 31 de marzo de 2026
A6: (PESOS)
A7: Concepto | B7: Egresos | G7: Subejercicio
B8: Aprobado | C8: Ampliaciones / (Reducciones) | D8: Modificado | E8: Devengado | F8: Pagado
A9: I. Gasto No Etiquetado (I=A+B+C+D+E+F) | B9: =+B10 -> 11077138 | C9: =+C10 -> 0 | D9: =+D10 -> 11077138 | E9: =+E10 -> 1940049.2 | F9: =+F10 -> 1940049.2 | G9: =+G10 -> 9137088.6
A10: A. Personal Administrativo y de Servicio Público | B10: =+'Formato 6 a)'!B10 -> 11077138 | C10: =+'Formato 6 a)'!C10 -> 0 | D10: =+'Formato 6 a)'!D10 -> 11077138 | E10: =+'Formato 6 a)'!E10 -> 1940049.2 | F10: =+'Formato 6 a)'!F10 -> 1940049.2 | G10: =+'Formato 6 a)'!G10 -> 9137088.6
A11: B. Magisterio | B11: 0 | C11: 0 | D11: 0 | E11: 0 | F11: 0 | G11: 0
A12: C. Servicios de Salud (C=c1+c2) | B12: 0 | C12: 0 | D12: 0 | E12: 0 | F12: 0 | G12: 0
A13: c1) Personal Administrativo | B13: 0 | C13: 0 | D13: 0 | E13: 0 | F13: 0 | G13: 0
A14: c2) Personal Médico, paramédico y afín | B14: 0 | C14: 0 | D14: 0 | E14: 0 | F14: 0 | G14: 0
A15: D. Seguridad Pública | B15: 0 | C15: 0 | D15: 0 | E15: 0 | F15: 0 | G15: 0
A16: E. Gastos asociados a la implementación de nuevas leyes federales o reformas a las mismas (E=e1+e2) | B16: 0 | C16: 0 | D16: 0 | E16: 0 | F16: 0 | G16: 0
A17: e1) Nombre del Programa o Ley 1 | B17: 0 | C17: 0 | D17: 0 | E17: 0 | F17: 0 | G17: 0
A18: e2) Nombre del Programa o Ley 2 | B18: 0 | C18: 0 | D18: 0 | E18: 0 | F18: 0 | G18: 0
A19: F. Sentencias laborales definitivas | B19: 0 | C19: 0 | D19: 0 | E19: 0 | F19: 0 | G19: 0
A21: II. Gasto Etiquetado (II=A+B+C+D+E+F) | B21: 0 | C21: 0 | D21: 0 | E21: 0 | F21: 0 | G21: 0
A22: A. Personal Administrativo y de Servicio Público | B22: 0 | C22: 0 | D22: 0 | E22: 0 | F22: 0 | G22: 0
A23: B. Magisterio | B23: 0 | C23: 0 | D23: 0 | E23: 0 | F23: 0 | G23: 0
... A31: F. Sentencias laborales definitivas | B31: 0 | C31: 0 | D31: 0 | E31: 0 | F31: 0 | G31: 0
A33: III. Total del Gasto en Servicios Personales (III = I + II) | B33: =+B9+B21 -> 11077138 | C33: =+C9+C21 -> 0 | D33: =+D9+D21 -> 11077138 | E33: =+E9+E21 -> 1940049.2 | F33: =+F9+F21 -> 1940049.2 | G33: =+G9+G21 -> 9137088.6

Sheet Formato 7 a)
A1: Formato 7 a) Proyecciones de Ingresos - LDF
A2: ='Formato 1'!A2 -> INSTITUTO MUNICIPAL DE PLANEACION DE IRAPUATO GUANAJUATO
A3: Proyecciones de Ingresos - LDF
A4: (PESOS)
A5: (CIFRAS NOMINALES)
A6: Concepto | B6: 2026 | C6: =B6+1 -> 2027 | D6: =C6+1 -> 2028 | E6: =D6+1 -> 2029 | F6: =E6+1 -> 2030 | G6: =F6+1 -> 2031
A7: 1. Ingresos de Libre Disposición (1=A+B+C+D+E+F+G+H+I+J+K+L) | B7: =SUM(B8:B19) -> 29474579 | C7: =SUM(C8:C19) -> 30506189 | D7: =SUM(D8:D19) -> 31573906 | E7: =SUM(E8:E19) -> 32678993 | F7: =SUM(F8:F19) -> 33822757 | G7: =SUM(G8:G19) -> 35006554
A8: A. Impuestos | B8: 0 | C8: 0 | D8: 0 | E8: 0 | F8: 0 | G8: 0
A9: B. Cuotas y Aportaciones de Seguridad Social | B9: 0 | C9: 0 | D9: 0 | E9: 0 | F9: 0 | G9: 0
A10: C. Contribuciones de Mejoras | B10: 0 | C10: 0 | D10: 0 | E10: 0 | F10: 0 | G10: 0
A11: D. Derechos | B11: 0 | C11: 0 | D11: 0 | E11: 0 | F11: 0 | G11: 0
A12: E. Productos | B12: 0 | C12: 0 | D12: 0 | E12: 0 | F12: 0 | G12: 0
A13: F. Aprovechamientos | B13: 0 | C13: 0 | D13: 0 | E13: 0 | F13: 0 | G13: 0
A14: G. Ingresos por Venta de Bienes y Prestación de Servicios | B14: 0 | C14: 0 | D14: 0 | E14: 0 | F14: 0 | G14: 0
A15: H. Participaciones | B15: 0 | C15: 0 | D15: 0 | E15: 0 | F15: 0 | G15: 0
A16: I. Incentivos Derivados de la Colaboración Fiscal | B16: 0 | C16: 0 | D16: 0 | E16: 0 | F16: 0 | G16: 0
A17: J. Transferencias y Asignaciones | B17: =+'Formato 4'!B14 -> 29474579 | C17: =+B17*1.035 -> 30506189 | D17: =+C17*1.035 -> 31573906 | E17: =+D17*1.035 -> 32678993 | F17: =+E17*1.035 -> 33822757 | G17: =+F17*1.035 -> 35006554
A18: K. Convenios | B18: 0 | C18: 0 | D18: 0 | E18: 0 | F18: 0 | G18: 0
A19: L. Otros Ingresos de Libre Disposición | B19: 0 | C19: 0 | D19: 0 | E19: 0 | F19: 0 | G19: 0
A21: 2. Transferencias Federales Etiquetadas (2=A+B+C+D+E) | B21: 0 | C21: 0 | D21: 0 | E21: 0 | F21: 0 | G21: 0
A22: A. Aportaciones | B22: 0 | C22: 0 | D22: 0 | E22: 0 | F22: 0 | G22: 0
A23: B. Convenios | B23: 0 | C23: 0 | D23: 0 | E23: 0 | F23: 0 | G23: 0
A24: C. Fondos Distintos de Aportaciones | B24: 0 | C24: 0 | D24: 0 | E24: 0 | F24: 0 | G24: 0
A25: D. Transferencias, Asignaciones, Subsidios y Subvenciones, y Pensiones y Jubilaciones | B25: 0 | C25: 0 | D25: 0 | E25: 0 | F25: 0 | G25: 0
A26: E. Otras Transferencias Federales Etiquetadas | B26: 0 | C26: 0 | D26: 0 | E26: 0 | F26: 0 | G26: 0
A28: 3. Ingresos Derivados de Financiamientos (3=A) | B28: 0 | C28: 0 | D28: 0 | E28: 0 | F28: 0 | G28: 0
A29: A. Ingresos Derivados de Financiamientos | B29: 0 | C29: 0 | D29: 0 | E29: 0 | F29: 0 | G29: 0
A31: 4. Total de Ingresos Proyectados (4=1+2+3) | B31: =+B7+B21+B28 -> 29474579 | C31: =+C7+C21+C28 -> 30506189 | D31: =+D7+D21+D28 -> 31573906 | E31: =+E7+E21+E28 -> 32678993 | F31: =+F7+F21+F28 -> 33822757 | G31: =+G7+G21+G28 -> 35006554
A33: Datos Informativos
A34: 1. Ingresos Derivados de Financiamientos con Fuente de Pago de Recursos de Libre Disposición | B34: 0 | C34: 0 | D34: 0 | E34: 0 | F34: 0 | G34: 0
A35: 2. Ingresos Derivados de Financiamientos con Fuente de Pago de Transferencias Federales Etiquetadas | B35: 0 | C35: 0 | D35: 0 | E35: 0 | F35: 0 | G35: 0
A36: 3. Ingresos Derivados de Financiamiento (3 = 1 + 2) | B36: 0 | C36: 0 | D36: 0 | E36: 0 | F36: 0 | G36: 0

Sheet Formato 7 b)
A1: Formato 7 b) Proyecciones de Egresos - LDF
A2: ='Formato 1'!A2 -> INSTITUTO MUNICIPAL DE PLANEACION DE IRAPUATO GUANAJUATO
A3: Proyecciones de Egresos - LDF
A4: (PESOS)
A5: (CIFRAS NOMINALES)
A6: Concepto | B6: 2026 | C6: =B6+1 -> 2027 | D6: =C6+1 -> 2028 | E6: =D6+1 -> 2029 | F6: =E6+1 -> 2030 | G6: =F6+1 -> 2031
A7: 1. Gasto No Etiquetado (1=A+B+C+D+E+F+G+H+I) | B7: =SUM(B8:B16) -> 29474579 | C7: =SUM(C8:C16) -> 30506189 | D7: =SUM(D8:D16) -> 31573906 | E7: =SUM(E8:E16) -> 32678993 | F7: =SUM(F8:F16) -> 33822758 | G7: =SUM(G8:G16) -> 35006554
A8: A. Servicios Personales | B8: =+'Formato 6 a)'!B10 -> 11077138 | C8: =+B8*1.035 -> 11464838 | D8: =+C8*1.035 -> 11866107 | E8: =+D8*1.035 -> 12281421 | F8: =+E8*1.035 -> 12711270 | G8: =+F8*1.035 -> 13156165
A9: B. Materiales y Suministros | B9: =+'Formato 6 a)'!B18 -> 338521 | C9: =+B9*1.035 -> 350369.23 | D9: =+C9*1.035 -> 362632.16 | E9: =+D9*1.035 -> 375324.28 | F9: =+E9*1.035 -> 388460.63 | G9: =+F9*1.035 -> 402056.76
A10: C. Servicios Generales | B10: =+'Formato 6 a)'!B28 -> 17993920 | C10: =+B10*1.035 -> 18623708 | D10: =+C10*1.035 -> 19275537 | E10: =+D10*1.035 -> 19950181 | F10: =+E10*1.035 -> 20648438 | G10: =+F10*1.035 -> 21371133
A11: D. Transferencias, Asignaciones, Subsidios y Otras Ayudas | B11: 0 | C11: =+B11*1.035 -> 0 | D11: =+C11*1.035 -> 0 | E11: =+D11*1.035 -> 0 | F11: =+E11*1.035 -> 0 | G11: =+F11*1.035 -> 0
A12: E. Bienes Muebles, Inmuebles e Intangibles | B12: =+'Formato 6 a)'!B48 -> 65000 | C12: =+B12*1.035 -> 67275 | D12: =+C12*1.035 -> 69629.625 | E12: =+D12*1.035 -> 72066.662 | F12: =+E12*1.035 -> 74588.995 | G12: =+F12*1.035 -> 77199.61
A13: F. Inversión Pública | B13: 0 | C13: 0 | D13: 0 | E13: 0 | F13: 0 | G13: 0
A14: G. Inversiones Financieras y Otras Provisiones | B14: 0 | C14: 0 | D14: 0 | E14: 0 | F14: 0 | G14: 0
A15: H. Participaciones y Aportaciones | B15: 0 | C15: 0 | D15: 0 | E15: 0 | F15: 0 | G15: 0
A16: I. Deuda Pública | B16: 0 | C16: 0 | D16: 0 | E16: 0 | F16: 0 | G16: 0
A18: 2. Gasto Etiquetado (2=A+B+C+D+E+F+G+H+I) | B18: 0 | C18: 0 | D18: 0 | E18: 0 | F18: 0 | G18: 0
A19: A. Servicios Personales | B19: 0 | C19: 0 | D19: 0 | E19: 0 | F19: 0 | G19: 0
A20: B. Materiales y Suministros | B20: 0 | C20: 0 | D20: 0 | E20: 0 | F20: 0 | G20: 0
A21: C. Servicios Generales | B21: 0 | C21: 0 | D21: 0 | E21: 0 | F21: 0 | G21: 0
A22: D. Transferencias, Asignaciones, Subsidios y Otras Ayudas | B22: 0 | C22: 0 | D22: 0 | E22: 0 | F22: 0 | G22: 0
A23: E. Bienes Muebles, Inmuebles e Intangibles | B23: 0 | C23: 0 | D23: 0 | E23: 0 | F23: 0 | G23: 0
A24: F. Inversión Pública | B24: 0 | C24: 0 | D24: 0 | E24: 0 | F24: 0 | G24: 0
A25: G. Inversiones Financieras y Otras Provisiones | B25: 0 | C25: 0 | D25: 0 | E25: 0 | F25: 0 | G25: 0
... A27: I. Deuda Pública | B27: 0 | C27: 0 | D27: 0 | E27: 0 | F27: 0 | G27: 0
A29: 3. Total de Egresos Proyectados (3 = 1 + 2) | B29: =+B7+B18 -> 29474579 | C29: =+C7+C18 -> 30506189 | D29: =+D7+D18 -> 31573906 | E29: =+E7+E18 -> 32678993 | F29: =+F7+F18 -> 33822758 | G29: =+G7+G18 -> 35006554

Sheet Formato 7 c)
A1: Formato 7 c) Resultados de Ingresos - LDF
A2: ='Formato 1'!A2 -> INSTITUTO MUNICIPAL DE PLANEACION DE IRAPUATO GUANAJUATO
A3: Resultados de Ingresos - LDF
A4: (PESOS)
A5: Concepto | B5: 2021 1 | C5: 2022 1 | D5: 2023 1 | E5: 2024 1 | F5: 2025 1 | G5: 2026 2
A6: 1. Ingresos de Libre Disposición (1=A+B+C+D+E+F+G+H+I+J+K+L) | B6: =SUM(B7:B18) -> 3573699.1 | C6: =SUM(C7:C18) -> 6825999.3 | D6: =SUM(D7:D18) -> 7100000 | E6: =SUM(E7:E18) -> 17450895 | F6: =SUM(F7:F18) -> 29060264 | G6: =SUM(G7:G18) -> 24692796
A7: A. Impuestos | B7: 0 | C7: 0 | D7: 0 | E7: 0 | F7: 0 | G7: 0
A8: B. Cuotas y Aportaciones de Seguridad Social | B8: 0 | C8: 0 | D8: 0 | E8: 0 | F8: 0 | G8: 0
A9: C. Contribuciones de Mejoras | B9: 0 | C9: 0 | D9: 0 | E9: 0 | F9: 0 | G9: 0
A10: D. Derechos | B10: 0 | C10: 0 | D10: 0 | E10: 0 | F10: 0 | G10: 0
A11: E. Productos | B11: 0 | C11: 0 | D11: 0 | E11: 0 | F11: 0 | G11: 0
A12: F. Aprovechamientos | B12: 0 | C12: 0 | D12: 0 | E12: 0 | F12: 0 | G12: 0
A13: G. Ingresos por Venta de Bienes y Prestación de Servicios | B13: 0 | C13: 0 | D13: 0 | E13: 0 | F13: 0 | G13: 0
A14: H. Participaciones | B14: 0 | C14: 0 | D14: 0 | E14: 0 | F14: 0 | G14: 0
A15: I. Incentivos Derivados de la Colaboración Fiscal | B15: 0 | C15: 0 | D15: 0 | E15: 0 | F15: 0 | G15: 0
A16: J. Transferencias y Asignaciones | B16: 3573699.1 | C16: 6825999.3 | D16: 7100000 | E16: 17450895 | F16: =+'[2]Formato 5'!E34 -> 29060264 | G16: 24692796
A17: K. Convenios | B17: 0 | C17: 0 | D17: 0 | E17: 0 | F17: 0 | G17: 0
A18: L. Otros Ingresos de Libre Disposición | B18: 0 | C18: 0 | D18: 0 | E18: 0 | F18: 0 | G18: 0
A20: 2. Transferencias Federales Etiquetadas (2=A+B+C+D+E) | B20: 0 | C20: 0 | D20: =SUM(D21:D25) -> 0 | E20: =SUM(E21:E25) -> 0 | F20: =SUM(F21:F25) -> 0 | G20: =SUM(G21:G25) -> 0
A21: A. Aportaciones | B21: 0 | C21: 0 | D21: 0 | E21: 0 | F21: 0 | G21: 0
A22: B. Convenios | B22: 0 | C22: 0 | D22: 0 | E22: 0 | F22: 0 | G22: 0
A23: C. Fondos Distintos de Aportaciones | B23: 0 | C23: 0 | D23: 0 | E23: 0 | F23: 0 | G23: 0
A24: D. Transferencias, Asignaciones, Subsidios y Subvenciones, y Pensiones y Jubilaciones | B24: 0 | C24: 0 | D24: 0 | E24: 0 | F24: 0 | G24: 0
A25: E. Otras Transferencias Federales Etiquetadas | B25: 0 | C25: 0 | D25: 0 | E25: 0 | F25: 0 | G25: 0
A27: 3. Ingresos Derivados de Financiamientos (3=A) | B27: 0 | C27: 0 | D27: =D28 -> 0 | E27: =E28 -> 0 | F27: =F28 -> 0 | G27: =G28 -> 0
A28: A. Ingresos Derivados de Financiamientos | B28: 0 | C28: 0 | D28: 0 | E28: 0 | F28: 0 | G28: 0
A30: 4. Total de Resultados de Ingresos (4=1+2+3) | B30: =B6+B20+B27 -> 3573699.1 | C30: =C6+C20+C27 -> 6825999.3 | D30: =D6+D20+D27 -> 7100000 | E30: =E6+E20+E27 -> 17450895 | F30: =F6+F20+F27 -> 29060264 | G30: =G6+G20+G27 -> 24692796
A32: Datos Informativos
A33: 1. Ingresos Derivados de Financiamientos con Fuente de Pago de Recursos de Libre Disposición | B33: 0 | C33: 0 | D33: 0 | E33: 0 | F33: 0 | G33: 0
A34: 2. Ingresos Derivados de Financiamientos con Fuente de Pago de Transferencias Federales Etiquetadas | B34: 0 | C34: 0 | D34: 0 | E34: 0 | F34: 0 | G34: 0
A35: 3. Ingresos Derivados de Financiamiento (3 = 1 + 2) | B35: 0 | C35: 0 | D35: 0 | E35: 0 | F35: 0 | G35: 0
A38: 1. Los importes corresponden a los egresos totales devengados.
A39: 2. Los importes corresponden a los egresos devengados al cierre trimestral más reciente disponible y estimados para el resto del ejercicio.

Sheet Formato 7 d)
A1: Formato 7 d) Resultados de Egresos - LDF
A2: ='Formato 1'!A2 -> INSTITUTO MUNICIPAL DE PLANEACION DE IRAPUATO GUANAJUATO
A3: Resultados de Egresos - LDF
A4: (PESOS)
A5: Concepto | B5: 2021 1 | C5: 2022 1 | D5: 2023 1 | E5: 2024 1 | F5: 2025 1 | G5: 2026 1
A6: 1. Gasto No Etiquetado (1=A+B+C+D+E+F+G+H+I) | B6: 6222126.5 | C6: 6878999.2 | D6: =SUM(D7:D15) -> 4231444.1 | E6: =SUM(E7:E15) -> 13958562 | F6: =SUM(F7:F15) -> 24782523 | G6: =SUM(G7:G15) -> 20884256
A7: A. Servicios Personales | B7: 4899335.5 | C7: 5515723 | D7: 3272786.3 | E7: 5929485.6 | F7: 8153935.8 | G7: 9660917
A8: B. Materiales y Suministros | B8: 112500.63 | C8: 118895 | D8: 91172.3 | E8: 185824.61 | F8: 299492.32 | G8: 57881.11
A9: C. Servicios Generales | B9: 1031778.4 | C9: 1040281.7 | D9: 635912.92 | E9: 3493146.2 | F9: 15420250 | G9: 11165458
A10: D. Transferencias, Asignaciones, Subsidios y Otras Ayudas | B10: 0 | C10: 0 | D10: 0 | E10: 0 | F10: 0 | G10: 0
A11: E. Bienes Muebles, Inmuebles e Intangibles | B11: 178511.95 | C11: 204099.5 | D11: 231572.61 | E11: 4350105.7 | F11: 908844.75 | G11: 0
A12: F. Inversión Pública | B12: 0 | C12: 0 | G12: 0
A13: G. Inversiones Financieras y Otras Provisiones | B13: 0 | C13: 0 | D13: 0 | E13: 0 | F13: 0 | G13: 0
A14: H. Participaciones y Aportaciones | B14: 0 | C14: 0 | D14: 0 | E14: 0 | F14: 0 | G14: 0
A15: I. Deuda Pública | B15: 0 | C15: 0 | D15: 0 | E15: 0 | F15: 0 | G15: 0
A17: 2. Gasto Etiquetado (2=A+B+C+D+E+F+G+H+I) | B17: 0 | C17: 0 | D17: =SUM(D18:D26) -> 0 | E17: =SUM(E18:E26) -> 0 | F17: =SUM(F18:F26) -> 0 | G17: =SUM(G18:G26) -> 0
A18: A. Servicios Personales | B18: 0 | C18: 0 | D18: 0 | E18: 0 | F18: 0 | G18: 0
A19: B. Materiales y Suministros | B19: 0 | C19: 0 | D19: 0 | E19: 0 | F19: 0 | G19: 0
A20: C. Servicios Generales | B20: 0 | C20: 0 | D20: 0 | E20: 0 | F20: 0 | G20: 0
A21: D. Transferencias, Asignaciones, Subsidios y Otras Ayudas | B21: 0 | C21: 0 | D21: 0 | E21: 0 | F21: 0 | G21: 0
A22: E. Bienes Muebles, Inmuebles e Intangibles | B22: 0 | C22: 0 | D22: 0 | E22: 0 | F22: 0 | G22: 0
A23: F. Inversión Pública | B23: 0 | C23: 0 | D23: 0 | E23: 0 | F23: 0 | G23: 0
A24: G. Inversiones Financieras y Otras Provisiones | B24: 0 | C24: 0 | D24: 0 | E24: 0 | F24: 0 | G24: 0
A25: H. Participaciones y Aportaciones | B25: 0 | C25: 0 | D25: 0 | E25: 0 | F25: 0 | G25: 0
A26: I. Deuda Pública | B26: 0 | C26: 0 | D26: 0 | E26: 0 | F26: 0 | G26: 0
A28: 3. Total de Egresos Proyectados (3 = 1 + 2) | B28: 0 | C28: 0 | D28: =D6+D17 -> 4231444.1 | E28: =E6+E17 -> 13958562 | F28: =F6+F17 -> 24782523 | G28: =G6+G17 -> 20884256
A31: 1. Los importes corresponden a los egresos totales devengados.
A32: 2. Los importes corresponden a los egresos devengados al cierre trimestral más reciente disponible y estimados para el resto del ejercicio.

Sheet Formato 8
A1: Formato 8) Informe sobre Estudios Actuariales – LDF
A2: ='Formato 1'!A2 -> INSTITUTO MUNICIPAL DE PLANEACION DE IRAPUATO GUANAJUATO
A3: Informe sobre Estudios Actuariales - LDF
A4: Concepto | B4: Pensiones y jubilaciones | C4: Salud | D4: Riesgos de trabajo | E4: Invalidez y vida | F4: Otras prestaciones sociales
A5: Tipo de Sistema
A6: Prestación laboral o Fondo general para trabajadores del estado o municipio
A7: Beneficio definido, Contribución definida o Mixto
A9: Población afiliada
A10: Activos | B10: SUBROGADA AL IMSS
A11: Edad máxima
A12: Edad mínima
A13: Edad promedio
A14: Pensionados y Jubilados
A15: Edad máxima
A16: Edad mínima
A17: Edad promedio
A18: Beneficiarios
A19: Promedio de años de servicio (trabajadores activos)
A20: Aportación individual al plan de pensión como % del salario
A21: Aportación del ente público al plan de pensión como % del salario
A22: Crecimiento esperado de los pensionados y jubilados (como %)
... A66: Empresa que elaboró el estudio actuarial

Sheet FA
A1: INSTITUTO MUNICIPAL DE PLANEACIÓN DE IRAPUATO, GTO. Formato de Ingresos Estatales ( Sistema de Alertas ) 2026 (PESOS)
B2: Ingreso
A3: Concepto (c) | B3: 1 Trimestre | C3: 2 Trimestre | D3: 3 Trimestre | E3: 4 Trimestre | F3: TOTAL
A5: Ingresos Totales | B5: =+B6+B37 -> 8918820 | C5: =+C6+C37 -> 0 | D5: =+D6+D37 -> 0 | E5: =+E6+E37 -> 0
A6: Ingresos de Libre Disposición | B6: =+B7+B15+B27+B30+B36 -> 8918820 | C6: =+C7+C15+C27+C30+C36 -> 0 | D6: =+D7+D15+D27+D30+D36 -> 0 | E6: =+E7+E15+E27+E30+E36 -> 0
A7: Ingresos Locales | B7: =+B8+B9+B10+B11+B12+B13+B14 -> 0 | C7: =+C8+C9+C10+C11+C12+C13+C14 -> 0 | D7: =+D8+D9+D10+D11+D12+D13+D14 -> 0 | E7: =+E8+E9+E10+E11+E12+E13+E14 -> 0
A8: Impuestos | B8: 0 | C8: 0 | D8: 0 | E8: 0
A9: Cuotas y Aportaciones de Seguridad Social | B9: 0 | C9: 0 | D9: 0 | E9: 0
A10: Contribuciones de Mejoras | B10: 0 | C10: 0 | D10: 0 | E10: 0
A11: Derechos | B11: 0 | C11: 0 | D11: 0 | E11: 0
A12: Productos | B12: 0 | C12: 0 | D12: 0 | E12: 0
A13: Aprovechamientos | B13: 0 | C13: 0 | D13: 0 | E13: 0
A14: Ingresos Por Venta de Bienes y Servicios | B14: 0 | C14: 0 | D14: 0 | E14: 0
A15: Participaciones | B15: =SUM(B16:B26) -> 0 | C15: =SUM(C16:C26) -> 0 | D15: =SUM(D16:D26) -> 0 | E15: =SUM(E16:E26) -> 0
A16: Fondo General de Participaciones | B16: 0 | C16: 0 | D16: 0 | E16: 0
A17: Fondo de Fomento Municipal | B17: 0 | C17: 0 | D17: 0 | E17: 0
A18: Fondo de Fiscalización y Recaudación | B18: 0 | C18: 0 | D18: 0 | E18: 0
A19: Fondo de Compensación | B19: 0 | C19: 0 | D19: 0 | E19: 0
A20: Fondo de Extracción de Hidrocarburos | B20: 0 | C20: 0 | D20: 0 | E20: 0
A21: Impuesto Especial sobre Producción y Servicios | B21: 0 | C21: 0 | D21: 0 | E21: 0
A22: 0.136% de la Recaudación Federal Participable | B22: 0 | C22: 0 | D22: 0 | E22: 0
A23: 3.17% Sobre Extracción de Petróleo | B23: 0 | C23: 0 | D23: 0 | E23: 0
A24: Gasolinas y Diésel | B24: 0 | C24: 0 | D24: 0 | E24: 0
A25: Fondo del Impuesto Sobre la Renta | B25: 0 | C25: 0 | D25: 0 | E25: 0
A26: Fondo de Estabilización de los Ingresos de las Entidades Federativas | B26: 0 | C26: 0 | D26: 0 | E26: 0
A27: Transferencias, Asignaciones, Subsidios y Otras Ayudas | B27: =+B29+B28 -> 8918820 | C27: =+C29+C28 -> 0 | D27: =+D29+D28 -> 0 | E27: =+E29+E28 -> 0
A28: Transferencias | B28: 8918820 | C28: 0 | D28: 0 | E28: 0
A29: Convenios | B29: 0 | C29: 0 | D29: 0 | E29: 0
A30: Incentivos Económicos | B30: =+B31+B32+B33+B34+B35 -> 0 | C30: =+C31+C32+C33+C34+C35 -> 0 | D30: =+D31+D32+D33+D34+D35 -> 0 | E30: =+E31+E32+E33+E34+E35 -> 0
A31: Tenencia o uso de vehículos | B31: 0 | C31: 0 | D31: 0 | E31: 0
A32: Fondo de compensación ISAN | B32: 0 | C32: 0 | D32: 0 | E32: 0
A33: Impuesto Sobre Automóviles Nuevos | B33: 0 | C33: 0 | D33: 0 | E33: 0
A34: Fondo de Compensación de Repecos-intermedios | B34: 0 | C34: 0 | D34: 0 | E34: 0
A35: Otros Incentivos Económicos | B35: 0 | C35: 0 | D35: 0 | E35: 0
A36: Otros Ingresos de Libre Disposición | B36: 0 | C36: 0 | D36: 0 | E36: 0
A37: Transferencias Federales Etiquetadas | B37: =+B38+B47+B52+B55+B56 -> 0 | C37: =+C38+C47+C52+C55+C56 -> 0 | D37: =+D38+D47+D52+D55+D56 -> 0 | E37: =+E38+E47+E52+E55+E56 -> 0
A38: Aportaciones | B38: =+B39+B40+B41+B42+B43+B44+B45+B46 -> 0 | C38: =+C39+C40+C41+C42+C43+C44+C45+C46 -> 0 | D38: =+D39+D40+D41+D42+D43+D44+D45+D46 -> 0 | E38: =+E39+E40+E41+E42+E43+E44+E45+E46 -> 0
A39: Fondo de Aportaciones para la Nómina Educativa y Gasto Operativo | B39: 0 | C39: 0 | D39: 0 | E39: 0
A40: Fondo de Aportaciones para los Servicios de Salud | B40: 0 | C40: 0 | D40: 0 | E40: 0
A41: Fondo de Aportaciones para la Infraestructura Social | B41: 0 | C41: 0 | D41: 0 | E41: 0
...
